BEGIN:VCALENDAR
VERSION:2.0
PRODID:-//Concord, MA - ECPv6.15.20//NONSGML v1.0//EN
CALSCALE:GREGORIAN
METHOD:PUBLISH
X-ORIGINAL-URL:https://www.livingconcord.com
X-WR-CALDESC:Events for Concord, MA
REFRESH-INTERVAL;VALUE=DURATION:PT1H
X-Robots-Tag:noindex
X-PUBLISHED-TTL:PT1H
BEGIN:VTIMEZONE
TZID:America/New_York
BEGIN:DAYLIGHT
TZOFFSETFROM:-0500
TZOFFSETTO:-0400
TZNAME:EDT
DTSTART:20250309T070000
END:DAYLIGHT
BEGIN:STANDARD
TZOFFSETFROM:-0400
TZOFFSETTO:-0500
TZNAME:EST
DTSTART:20251102T060000
END:STANDARD
BEGIN:DAYLIGHT
TZOFFSETFROM:-0500
TZOFFSETTO:-0400
TZNAME:EDT
DTSTART:20260308T070000
END:DAYLIGHT
BEGIN:STANDARD
TZOFFSETFROM:-0400
TZOFFSETTO:-0500
TZNAME:EST
DTSTART:20261101T060000
END:STANDARD
BEGIN:DAYLIGHT
TZOFFSETFROM:-0500
TZOFFSETTO:-0400
TZNAME:EDT
DTSTART:20270314T070000
END:DAYLIGHT
BEGIN:STANDARD
TZOFFSETFROM:-0400
TZOFFSETTO:-0500
TZNAME:EST
DTSTART:20271107T060000
END:STANDARD
END:VTIMEZONE
BEGIN:VEVENT
DTSTART;TZID=America/New_York:20260509T080000
DTEND;TZID=America/New_York:20260509T103000
DTSTAMP:20260424T042009
CREATED:20260422T165827Z
LAST-MODIFIED:20260422T165827Z
UID:10025961-1778313600-1778322600@www.livingconcord.com
SUMMARY:Birding in Thoreau's Footsteps with Peter Alden & Lillian Stokes - On May 9 & 17
DESCRIPTION:Join local ornithologist\, author\, and naturalist Peter Alden for a guided bird walk at Walden Pond. These walks take place Saturday\, May 9 OR Sunday\, May 17\, from 8:00-10:30am\, and will meet at the Visitors Center. \nAlden is the author of Audubon’s Field Guide to New England. Peter will be joined by friend and frequent collaborator Lillian Stokes. Stokes has coauthored over 35 field guides. \nGood walking shoes\, water\, binoculars\, and bug spray are required. We hope to see you there!
URL:https://www.livingconcord.com/event/birding-in-thoreaus-footsteps-with-peter-alden-lillian-stokes-on-may-9-17/
LOCATION:Walden Pond Visitor Center\, 915 Walden Street\, Concord\, MA\, 01742\, United States
CATEGORIES:Nature,outdoor
ATTACH;FMTTYPE=image/png:https://www.livingconcord.com/wp-content/uploads/2026/04/Screenshot-2026-04-21-at-12.55.39-PM.png
END:VEVENT
END:VCALENDAR