BEGIN:VCALENDAR
VERSION:2.0
PRODID:-//Concord, MA - ECPv6.15.20//NONSGML v1.0//EN
CALSCALE:GREGORIAN
METHOD:PUBLISH
X-WR-CALNAME:Concord, MA
X-ORIGINAL-URL:https://www.livingconcord.com
X-WR-CALDESC:Events for Concord, MA
REFRESH-INTERVAL;VALUE=DURATION:PT1H
X-Robots-Tag:noindex
X-PUBLISHED-TTL:PT1H
BEGIN:VTIMEZONE
TZID:America/New_York
BEGIN:DAYLIGHT
TZOFFSETFROM:-0500
TZOFFSETTO:-0400
TZNAME:EDT
DTSTART:20250309T070000
END:DAYLIGHT
BEGIN:STANDARD
TZOFFSETFROM:-0400
TZOFFSETTO:-0500
TZNAME:EST
DTSTART:20251102T060000
END:STANDARD
BEGIN:DAYLIGHT
TZOFFSETFROM:-0500
TZOFFSETTO:-0400
TZNAME:EDT
DTSTART:20260308T070000
END:DAYLIGHT
BEGIN:STANDARD
TZOFFSETFROM:-0400
TZOFFSETTO:-0500
TZNAME:EST
DTSTART:20261101T060000
END:STANDARD
BEGIN:DAYLIGHT
TZOFFSETFROM:-0500
TZOFFSETTO:-0400
TZNAME:EDT
DTSTART:20270314T070000
END:DAYLIGHT
BEGIN:STANDARD
TZOFFSETFROM:-0400
TZOFFSETTO:-0500
TZNAME:EST
DTSTART:20271107T060000
END:STANDARD
END:VTIMEZONE
BEGIN:VEVENT
DTSTART;TZID=America/New_York:20260422T120000
DTEND;TZID=America/New_York:20260422T133000
DTSTAMP:20260422T231738
CREATED:20260402T130949Z
LAST-MODIFIED:20260402T132714Z
UID:10025890-1776859200-1776864600@www.livingconcord.com
SUMMARY:Belly Dancing Show with Celia After Pizza & Salad Lunch
DESCRIPTION:The Concord Council on Aging invites you to experience the art of belly dancing with Celia!  Come for pizza and salad lunch then learn about the history of belly dance\, and try some fun beginner moves. This program is funded by a grant from the Concord Cultural Council. Please RSVP to 978-318-3020 to sign up for both the lunch and the show.
URL:https://www.livingconcord.com/event/monthly-lgbtq-social/
LOCATION:Harvey Wheeler Community Center\, 1276 Main St\, Concord\, MA\, 01742\, United States
CATEGORIES:Senior
ATTACH;FMTTYPE=image/jpeg:https://www.livingconcord.com/wp-content/uploads/2026/04/istockphoto-149275258-612x612-1.jpg
GEO:42.4556949;-71.3939961
X-APPLE-STRUCTURED-LOCATION;VALUE=URI;X-ADDRESS=Harvey Wheeler Community Center 1276 Main St Concord MA 01742 United States;X-APPLE-RADIUS=500;X-TITLE=1276 Main St:geo:-71.3939961,42.4556949
END:VEVENT
BEGIN:VEVENT
DTSTART;TZID=America/New_York:20260422T100000
DTEND;TZID=America/New_York:20260422T120000
DTSTAMP:20260422T231738
CREATED:20260407T145619Z
LAST-MODIFIED:20260407T145619Z
UID:10025888-1776852000-1776859200@www.livingconcord.com
SUMMARY:Medication and Sharps Takeback
DESCRIPTION:The Concord COA will sponsor an opportunity for the proper disposal of any of your expired or unneeded medications. We will accept prescription and over-the-counter medications in pill or liquid form. Additionally\, we will have a small sharps collection box for used needles. Discarding them at the COA will ensure that they will be disposed of in an environmentally safe way. There is no charge for this event and there is no need to make an appointment.
URL:https://www.livingconcord.com/event/medication-and-sharps-takeback/
LOCATION:Harvey Wheeler Community Center\, 1276 Main St\, Concord\, MA\, 01742\, United States
CATEGORIES:Senior
ATTACH;FMTTYPE=image/jpeg:https://www.livingconcord.com/wp-content/uploads/2026/04/282-2820964_pharmaceutical-drug-medicine-tablet-prescription-drug-clipart.jpg
GEO:42.4556949;-71.3939961
X-APPLE-STRUCTURED-LOCATION;VALUE=URI;X-ADDRESS=Harvey Wheeler Community Center 1276 Main St Concord MA 01742 United States;X-APPLE-RADIUS=500;X-TITLE=1276 Main St:geo:-71.3939961,42.4556949
END:VEVENT
BEGIN:VEVENT
DTSTART;TZID=America/New_York:20260416T183000
DTEND;TZID=America/New_York:20260416T203000
DTSTAMP:20260422T231738
CREATED:20260407T192043Z
LAST-MODIFIED:20260407T192043Z
UID:10025899-1776364200-1776371400@www.livingconcord.com
SUMMARY:Lead with Dignity for Stronger Relationships
DESCRIPTION:Join renowned dignity expert Donna Hicks\, author of “Dignity: Its Essential Role in Resolving Conflict” and “Leading with Dignity: How to Create a Culture That Brings Out the Best in People”\, for a three session workshop that will explore dignity—how we honor it in ourselves and others—as a foundational element in how communities function\, collaborate\, and navigate conflict. Her Dignity Framework\, developed through her work at Harvard University in international conflict resolution\, offers practical tools for strengthening relationships and fostering a culture of respect and belonging. \nBuilding on a recent session with the Select Board\, School Committee\, and Town Manager\, this free\, interactive workshop series invites broader participation from Concord’s civic community. The series is co-sponsored by the DEI Commission and the Wright Tavern Center for Civic Engagement https://www.wrighttavern.org/CivicEngagement\, in collaboration with Concord Carlisle Adult and Community Education. You can read more about Donna Hicks\, Phd\, at https://DrDonnaHicks.com. \nLearn more and register via CCACE at https://ccace.asapconnected.com/#CourseID=324755
URL:https://www.livingconcord.com/event/lead-with-dignity-for-stronger-relationships/
LOCATION:Harvey Wheeler Community Center\, 1276 Main St\, Concord\, MA\, 01742\, United States
CATEGORIES:Author Visit,CCAE,Class or Workshop,Parent Education
ATTACH;FMTTYPE=image/png:https://www.livingconcord.com/wp-content/uploads/2026/04/dignity-workshop-series.png
ORGANIZER;CN="Concord Carlisle Adult &amp%3B Community Ed":MAILTO:ace@concordps.org
GEO:42.4556949;-71.3939961
X-APPLE-STRUCTURED-LOCATION;VALUE=URI;X-ADDRESS=Harvey Wheeler Community Center 1276 Main St Concord MA 01742 United States;X-APPLE-RADIUS=500;X-TITLE=1276 Main St:geo:-71.3939961,42.4556949
END:VEVENT
BEGIN:VEVENT
DTSTART;TZID=America/New_York:20260416T183000
DTEND;TZID=America/New_York:20260416T203000
DTSTAMP:20260422T231738
CREATED:20260326T144206Z
LAST-MODIFIED:20260326T144238Z
UID:10025862-1776364200-1776371400@www.livingconcord.com
SUMMARY:Leading with Dignity  Workshop Series
DESCRIPTION:Leading with Dignity \nWORKSHOP SERIES \nat Harvey Wheeler Community Center \n1276 Main Street\, West Concord \nFree and open to the public \n\n\n\n\n\n\n\n\n\n\n\n\n\n\n\n\n\n\n\n\n\n\nJoin internationally recognized dignity expert Donna Hicks for a three-session workshop introducing practical tools from the Dignity Model to improve relationships at home\, at work and throughout the community. \n\n\n\n\n\n\n\n\n\n\n\n\n\n\n\n\n\n\n\n\n\n\n\n\n\n\n\n\n\n\n\n\n\n\n\n\n\n\n\n\n\n\n\n\n\n\n\n\n\n\n\n\n\n\n\n\n\n\n\n\n\n\n\n\n\n\n\n\n\n\n\n\n\nThursday\, April 16 6:30-8:30pm \n\n\n\n\n\n\n\n\n\n\n\n\n\n\n\n\n\n\n\n\n\n\nThursday\, May 14 6:30-8:30pm \n\n\n\n\n\n\n\n\n\n\n\n\n\n\n\n\n\n\n\n\n\n\nThursday\, June 11 6:30-8:30pm
URL:https://www.livingconcord.com/event/leading-with-dignity-workshop-series/
LOCATION:Harvey Wheeler Community Center\, 1276 Main St\, Concord\, MA\, 01742\, United States
ATTACH;FMTTYPE=image/jpeg:https://www.livingconcord.com/wp-content/uploads/2026/03/dignity.jpg
GEO:42.4556949;-71.3939961
X-APPLE-STRUCTURED-LOCATION;VALUE=URI;X-ADDRESS=Harvey Wheeler Community Center 1276 Main St Concord MA 01742 United States;X-APPLE-RADIUS=500;X-TITLE=1276 Main St:geo:-71.3939961,42.4556949
END:VEVENT
BEGIN:VEVENT
DTSTART;TZID=America/New_York:20260416T130000
DTEND;TZID=America/New_York:20260416T140000
DTSTAMP:20260422T231738
CREATED:20260331T211416Z
LAST-MODIFIED:20260331T211416Z
UID:10025885-1776344400-1776348000@www.livingconcord.com
SUMMARY:Scoops for Support - Ice Cream Social for Mental Health Awareness
DESCRIPTION:🌞 🌞 🌞 🌞 🌞 🌞 🌞 🌞 🌞\nCome together in support of the Yellow Tulip Project\, an organization dedicated to reducing the stigma surrounding mental illness and fostering a culture of community\, compassion\, and collaboration to address mental health challenges. Join COA Assistant Director and Social Worker\, Nicole Saia\, alongside Town of Concord Public Health Nurse\, Katie Stanislawzyk\, for an open and engaging conversation about mental health\, stigma\, and support\, while creating and enjoying delicious ice cream sundaes. Nicole and Katie will lead a thoughtful discussion in a warm\, welcoming atmosphere and share helpful resources for you and your loved ones. Please call the COA to register at 978-318-3020.
URL:https://www.livingconcord.com/event/scoops-for-support-ice-cream-social-for-mental-health-awareness-2/
LOCATION:Harvey Wheeler Community Center\, 1276 Main St\, Concord\, MA\, 01742\, United States
CATEGORIES:Senior
ATTACH;FMTTYPE=image/jpeg:https://www.livingconcord.com/wp-content/uploads/2026/03/istockphoto-1318691202-612x612-2.jpg
GEO:42.4556949;-71.3939961
X-APPLE-STRUCTURED-LOCATION;VALUE=URI;X-ADDRESS=Harvey Wheeler Community Center 1276 Main St Concord MA 01742 United States;X-APPLE-RADIUS=500;X-TITLE=1276 Main St:geo:-71.3939961,42.4556949
END:VEVENT
BEGIN:VEVENT
DTSTART;TZID=America/New_York:20260413T103000
DTEND;TZID=America/New_York:20260413T113000
DTSTAMP:20260422T231738
CREATED:20260331T211543Z
LAST-MODIFIED:20260331T211551Z
UID:10025887-1776076200-1776079800@www.livingconcord.com
SUMMARY:Men's Meeting - Open to All with Herb Crehan
DESCRIPTION:⚾️ ⚾️ ⚾️ ⚾️ ⚾️ ⚾️ ⚾️ ⚾️\nVeteran Boston sportswriter Herb Crehan looks back on one of the most unforgettable seasons in franchise history – the 1986 Boston Red Sox. Crehan revisits the team’s dramatic comeback win over the California Angels in the ALC\, followed by the heartbreaking loss in the World Series. All are welcome.
URL:https://www.livingconcord.com/event/mens-meeting-open-to-all-with-herb-crehan/
LOCATION:Harvey Wheeler Community Center\, 1276 Main St\, Concord\, MA\, 01742\, United States
CATEGORIES:Senior
ATTACH;FMTTYPE=image/jpeg:https://www.livingconcord.com/wp-content/uploads/2026/03/R-2.jpg
GEO:42.4556949;-71.3939961
X-APPLE-STRUCTURED-LOCATION;VALUE=URI;X-ADDRESS=Harvey Wheeler Community Center 1276 Main St Concord MA 01742 United States;X-APPLE-RADIUS=500;X-TITLE=1276 Main St:geo:-71.3939961,42.4556949
END:VEVENT
BEGIN:VEVENT
DTSTART;TZID=America/New_York:20260411T100000
DTEND;TZID=America/New_York:20260411T150000
DTSTAMP:20260422T231738
CREATED:20260323T112451Z
LAST-MODIFIED:20260324T113507Z
UID:10025847-1775901600-1775919600@www.livingconcord.com
SUMMARY:Quilts 250 Book Launch
DESCRIPTION:Join us for the Quilts 250 Book Launch! \nStop by Harvey Wheeler from 11–3 to experience a beautiful celebration of art\, history\, and community. \n✨ View a selection of quilts from the original Concord Academy exhibit \n✨ Meet the creators and hear the stories behind their work \n✨ Pick up (or purchase!) your copy of the stunning 176-page book \n✨ Enjoy light refreshments \nA perfect opportunity to take a closer look at these extraordinary quilts—and bring home a piece of the story.
URL:https://www.livingconcord.com/event/quilts-250-book-launch/
LOCATION:Harvey Wheeler Community Center\, 1276 Main St\, Concord\, MA\, 01742\, United States
ATTACH;FMTTYPE=image/jpeg:https://www.livingconcord.com/wp-content/uploads/2026/03/quilts250-show-revised.jpg
GEO:42.4556949;-71.3939961
X-APPLE-STRUCTURED-LOCATION;VALUE=URI;X-ADDRESS=Harvey Wheeler Community Center 1276 Main St Concord MA 01742 United States;X-APPLE-RADIUS=500;X-TITLE=1276 Main St:geo:-71.3939961,42.4556949
END:VEVENT
BEGIN:VEVENT
DTSTART;TZID=America/New_York:20260409T110000
DTEND;TZID=America/New_York:20260409T120000
DTSTAMP:20260422T231738
CREATED:20260331T211403Z
LAST-MODIFIED:20260331T211403Z
UID:10025884-1775732400-1775736000@www.livingconcord.com
SUMMARY:Understanding Vascular Disease with Lori Sluss\, MSN\, FNP-C\, Nurse Practioner
DESCRIPTION:This presentation will provide an overview of several disease states involving the vascular system\, including carotid artery disease\, aneurysms\, PAD\, knee pain therapy\, and vein disease. You will learn about the factors that put you at risk\, identify the symptoms to watch for\, know when to seek treatment\, and discover some of the advanced treatment options available today\, many of which are offered in outpatient office settings. Call the COA to sign up at 978-318-3020.
URL:https://www.livingconcord.com/event/understanding-vascular-disease-with-lori-sluss-msn-fnp-c-nurse-practioner/
LOCATION:Harvey Wheeler Community Center\, 1276 Main St\, Concord\, MA\, 01742\, United States
CATEGORIES:Senior
ATTACH;FMTTYPE=image/jpeg:https://www.livingconcord.com/wp-content/uploads/2026/03/istockphoto-1397958049-612x612-1.jpg
GEO:42.4556949;-71.3939961
X-APPLE-STRUCTURED-LOCATION;VALUE=URI;X-ADDRESS=Harvey Wheeler Community Center 1276 Main St Concord MA 01742 United States;X-APPLE-RADIUS=500;X-TITLE=1276 Main St:geo:-71.3939961,42.4556949
END:VEVENT
END:VCALENDAR