BEGIN:VCALENDAR
VERSION:2.0
PRODID:-//Concord, MA - ECPv6.15.20//NONSGML v1.0//EN
CALSCALE:GREGORIAN
METHOD:PUBLISH
X-WR-CALNAME:Concord, MA
X-ORIGINAL-URL:https://www.livingconcord.com
X-WR-CALDESC:Events for Concord, MA
REFRESH-INTERVAL;VALUE=DURATION:PT1H
X-Robots-Tag:noindex
X-PUBLISHED-TTL:PT1H
BEGIN:VTIMEZONE
TZID:America/New_York
BEGIN:DAYLIGHT
TZOFFSETFROM:-0500
TZOFFSETTO:-0400
TZNAME:EDT
DTSTART:20250309T070000
END:DAYLIGHT
BEGIN:STANDARD
TZOFFSETFROM:-0400
TZOFFSETTO:-0500
TZNAME:EST
DTSTART:20251102T060000
END:STANDARD
BEGIN:DAYLIGHT
TZOFFSETFROM:-0500
TZOFFSETTO:-0400
TZNAME:EDT
DTSTART:20260308T070000
END:DAYLIGHT
BEGIN:STANDARD
TZOFFSETFROM:-0400
TZOFFSETTO:-0500
TZNAME:EST
DTSTART:20261101T060000
END:STANDARD
BEGIN:DAYLIGHT
TZOFFSETFROM:-0500
TZOFFSETTO:-0400
TZNAME:EDT
DTSTART:20270314T070000
END:DAYLIGHT
BEGIN:STANDARD
TZOFFSETFROM:-0400
TZOFFSETTO:-0500
TZNAME:EST
DTSTART:20271107T060000
END:STANDARD
END:VTIMEZONE
BEGIN:VEVENT
DTSTART;TZID=America/New_York:20260423T190000
DTEND;TZID=America/New_York:20260423T200000
DTSTAMP:20260423T051047
CREATED:20260413T153014Z
LAST-MODIFIED:20260413T153014Z
UID:10025913-1776970800-1776974400@www.livingconcord.com
SUMMARY:Revolutionary Legacies: Between the Lines
DESCRIPTION:Poet Bonney Hartley (Stockbridge-Munsee Band of Mohican Indians) presents an original poetry reading created for Revolutionary Legacies. Hartley will share the commissioned poem inspired by Museum objects and discuss her broader work\, offering Indigenous perspectives on memory\, belonging\, and the Revolution’s unfinished promises. \nSupported in part by Mass Humanities and Concord250. \nFree In-Person and Virtual
URL:https://www.livingconcord.com/event/revolutionary-legacies-between-the-lines/
LOCATION:Concord Museum\, Concord\, MA\, 01742\, United States
ATTACH;FMTTYPE=image/jpeg:https://www.livingconcord.com/wp-content/uploads/2026/04/Photo-of-Bonney.jpg
END:VEVENT
BEGIN:VEVENT
DTSTART;TZID=America/New_York:20260428T190000
DTEND;TZID=America/New_York:20260428T200000
DTSTAMP:20260423T051047
CREATED:20260413T153001Z
LAST-MODIFIED:20260413T153001Z
UID:10025914-1777402800-1777406400@www.livingconcord.com
SUMMARY:Gerard Magliocca on Limitations in Executive Power
DESCRIPTION:Legal scholar Gerard Magliocca explores Justice Robert H. Jackson’s landmark concurring opinion in the Steel Seizure Case\, illuminating its enduring framework for presidential power. This forum connects constitutional history to current debates\, examining how Jackson’s analysis continues to shape limits on executive authority in times of crisis. \nMembers Free | $10 Non-Members | Free Virtual
URL:https://www.livingconcord.com/event/gerard-magliocca-on-limitations-in-executive-power/
LOCATION:Concord Museum\, Concord\, MA\, 01742\, United States
ATTACH;FMTTYPE=image/jpeg:https://www.livingconcord.com/wp-content/uploads/2026/04/Gerard-Magliocca.jpg
END:VEVENT
BEGIN:VEVENT
DTSTART;TZID=America/New_York:20260501T113000
DTEND;TZID=America/New_York:20260501T120000
DTSTAMP:20260423T051047
CREATED:20260413T152946Z
LAST-MODIFIED:20260413T152946Z
UID:10025915-1777635000-1777636800@www.livingconcord.com
SUMMARY:Revolutionary Legacies Student Gallery Talk
DESCRIPTION:Join the student artists featured in the new special exhibition Revolutionary Legacies\, along with Curator David Wood and Curator and Director of Exhibitions Christie Jackson\, for a gallery talk at 11:30 am on May 1. \nFree with Museum admission. Members visit free.
URL:https://www.livingconcord.com/event/revolutionary-legacies-student-gallery-talk/
LOCATION:Concord Museum\, Concord\, MA\, 01742\, United States
ATTACH;FMTTYPE=image/png:https://www.livingconcord.com/wp-content/uploads/2026/04/hvpzrmq5.png
END:VEVENT
BEGIN:VEVENT
DTSTART;TZID=America/New_York:20260504T190000
DTEND;TZID=America/New_York:20260504T200000
DTSTAMP:20260423T051047
CREATED:20260413T152930Z
LAST-MODIFIED:20260413T152930Z
UID:10025916-1777921200-1777924800@www.livingconcord.com
SUMMARY:American Disunion: An Evening with David Blight
DESCRIPTION:Join Pulitzer Prize-winning historian David Blight for a compelling forum on the evolving meaning of American independence. Drawing on his scholarship on Frederick Douglass\, Blight will explore how the ideals of the Declaration of Independence have been interpreted and contested over time. \nProfessor Blight will discuss Frederick Douglass’s 1852 speech\, “What to the Slave Is the Fourth of July?”. Through Douglass’s words\, Blight invites us to reflect on the enduring tensions between liberty and inequality\, and to consider whether the nation’s founding promises remain unfulfilled. \nMembers Free | $10 Non-Members | Free Virtual
URL:https://www.livingconcord.com/event/american-disunion-an-evening-with-david-blight/
LOCATION:Concord Museum\, Concord\, MA\, 01742\, United States
ATTACH;FMTTYPE=image/jpeg:https://www.livingconcord.com/wp-content/uploads/2026/04/Blight-Headshot-scaled.jpg
END:VEVENT
BEGIN:VEVENT
DTSTART;TZID=America/New_York:20260511T190000
DTEND;TZID=America/New_York:20260511T200000
DTSTAMP:20260423T051047
CREATED:20260413T152918Z
LAST-MODIFIED:20260413T152918Z
UID:10025917-1778526000-1778529600@www.livingconcord.com
SUMMARY:This Land is Your Land
DESCRIPTION:Historian Beverly Gage discusses This Land Is Your Land\, a sweeping examination of American democracy\, protest\, and power. Drawing on vivid stories and deep research\, Gage traces how struggles over rights\, belonging\, and national identity have shaped the nation and why those struggles continue to matter today. \nSupported in part by Mass Humanities. \nMembers Free | $10 Non-Members | Free Virtual
URL:https://www.livingconcord.com/event/this-land-is-your-land/
LOCATION:Concord Museum\, Concord\, MA\, 01742\, United States
ATTACH;FMTTYPE=image/jpeg:https://www.livingconcord.com/wp-content/uploads/2026/04/beverly-gage-2.jpg
END:VEVENT
BEGIN:VEVENT
DTSTART;TZID=America/New_York:20260516T100000
DTEND;TZID=America/New_York:20260516T140000
DTSTAMP:20260423T051047
CREATED:20260413T152905Z
LAST-MODIFIED:20260413T152905Z
UID:10025918-1778925600-1778940000@www.livingconcord.com
SUMMARY:Second Annual Paul Revere’s Bike Ride
DESCRIPTION:Join us on a ride through the historic towns of Concord\, Lexington\, Lincoln\, Bedford\, and Carlisle on the second annual Paul Revere’s Bike Ride for the Concord Museum. Starting at the Concord Museum near the historic town center\, cyclists can choose to ride a 19 or 32 mile loop on paved roads\, passing many Revolutionary landmarks like the North Bridge\, the Lexington Green\, the Paul Revere Capture Site\, and much more!
URL:https://www.livingconcord.com/event/second-annual-paul-reveres-bike-ride/
LOCATION:Concord Museum\, Concord\, MA\, 01742\, United States
ATTACH;FMTTYPE=image/jpeg:https://www.livingconcord.com/wp-content/uploads/2026/04/thumbnail_image0-edited.jpg
END:VEVENT
BEGIN:VEVENT
DTSTART;TZID=America/New_York:20260523T110000
DTEND;TZID=America/New_York:20260523T123000
DTSTAMP:20260423T051047
CREATED:20260413T152851Z
LAST-MODIFIED:20260413T152851Z
UID:10025919-1779534000-1779539400@www.livingconcord.com
SUMMARY:Emerson-Thoreau Amble
DESCRIPTION:Celebrate Emerson’s birthday and follow the footsteps of writers Ralph Waldo Emerson and Henry David Thoreau! Enjoy the spring weather and learn about the friendship of two notable observers of nature from a museum interpreter. 1-mile walk\, uneven and unpaved terrain\, rain or shine. Meet at the Concord Museum. \nIn partnership with the Ralph Waldo Emerson Memorial Association. \n$10 Members | $20 Non-Members. Includes same-day admission to the Concord Museum.
URL:https://www.livingconcord.com/event/emerson-thoreau-amble/
LOCATION:Concord Museum\, Concord\, MA\, 01742\, United States
ATTACH;FMTTYPE=image/jpeg:https://www.livingconcord.com/wp-content/uploads/2026/04/Amble-Walking-Tour-1024x545-1.jpg
END:VEVENT
END:VCALENDAR