BEGIN:VCALENDAR
VERSION:2.0
PRODID:-//Concord, MA - ECPv6.15.20//NONSGML v1.0//EN
CALSCALE:GREGORIAN
METHOD:PUBLISH
X-ORIGINAL-URL:https://www.livingconcord.com
X-WR-CALDESC:Events for Concord, MA
REFRESH-INTERVAL;VALUE=DURATION:PT1H
X-Robots-Tag:noindex
X-PUBLISHED-TTL:PT1H
BEGIN:VTIMEZONE
TZID:America/New_York
BEGIN:DAYLIGHT
TZOFFSETFROM:-0500
TZOFFSETTO:-0400
TZNAME:EDT
DTSTART:20250309T070000
END:DAYLIGHT
BEGIN:STANDARD
TZOFFSETFROM:-0400
TZOFFSETTO:-0500
TZNAME:EST
DTSTART:20251102T060000
END:STANDARD
BEGIN:DAYLIGHT
TZOFFSETFROM:-0500
TZOFFSETTO:-0400
TZNAME:EDT
DTSTART:20260308T070000
END:DAYLIGHT
BEGIN:STANDARD
TZOFFSETFROM:-0400
TZOFFSETTO:-0500
TZNAME:EST
DTSTART:20261101T060000
END:STANDARD
BEGIN:DAYLIGHT
TZOFFSETFROM:-0500
TZOFFSETTO:-0400
TZNAME:EDT
DTSTART:20270314T070000
END:DAYLIGHT
BEGIN:STANDARD
TZOFFSETFROM:-0400
TZOFFSETTO:-0500
TZNAME:EST
DTSTART:20271107T060000
END:STANDARD
END:VTIMEZONE
BEGIN:VEVENT
DTSTART;VALUE=DATE:20260422
DTEND;VALUE=DATE:20260523
DTSTAMP:20260423T112444
CREATED:20260422T203301Z
LAST-MODIFIED:20260422T203301Z
UID:10025965-1776844800-1779469200@www.livingconcord.com
SUMMARY:2026 DEI Commission Community Survey
DESCRIPTION:Concord has a new question for its residents\, and it’s a simple one: how are you doing? \nThe town’s Diversity\, Equity\, and Inclusion Commission has launched a community survey to find out what it actually feels like to live\, work\, or study in Concord. Not what we assume. Not what we’ve always heard. What people actually experience day to day. \nThe survey covers topics like whether people feel welcome in town spaces\, whether they’ve encountered barriers accessing services or opportunities\, and how connected they feel to the broader community. It takes about ten minutes\, and anyone who spends time in Concord is encouraged to take it\, whether you’re a longtime resident\, a recent arrival\, a student\, or someone who works here but lives somewhere else. \nWhy does this matter? Because good decisions require real information. The Commission can’t advocate for a more inclusive Concord without understanding where people feel included and where they don’t. \nThis survey is how we start that conversation. \nIt’s anonymous and it’s open to everyone who lives\, works\, or studies in Concord. If you want to share it\, the hashtag is #youbelonginConcord.
URL:https://www.livingconcord.com/event/2026-dei-commission-community-survey/
LOCATION:MA
CATEGORIES:Art/Culture,children,Concord Carlisle High School,Concord Government,Concord pride,Family,women
ATTACH;FMTTYPE=image/jpeg:https://www.livingconcord.com/wp-content/uploads/2026/04/flyer-concord-impreso-1.jpg
END:VEVENT
BEGIN:VEVENT
DTSTART;VALUE=DATE:20260429
DTEND;VALUE=DATE:20260629
DTSTAMP:20260423T112444
CREATED:20260413T191404Z
LAST-MODIFIED:20260413T191404Z
UID:10025920-1777453200-1782680400@www.livingconcord.com
SUMMARY:"Earthworks: Evolution" Ceramics Biennial Opens
DESCRIPTION:The Umbrella Arts Center of Concord\, MA presents its second Ceramics Biennial Exhibition\, “Earthworks: Evolution”\, a regional show celebrating the depth of history\, tradition\, and cultural expression in contemporary ceramics\, and the ways in which artists continue to expand the field through innovation and reinterpretation. \nAdmission is free and the Allie Kussin Gallery is open to all. The works in this exhibition will be available for purchase via ArtCloud.com after the opening reception; for earlier inquiries\, please reach out to Julia@TheUmbrellaArts.org.\nExhibition Dates: April 29 – June 28\, 2026\nOpening Reception: April 29\, 6:00 – 8:00 PM (RSVP requested)\nForm and Narrative on Elegantly Embossed Ceramics with Juror and Visiting Artist Lisa Orr: Workshop ($70) | Artist’s Talk (Free) – RSVP requested \nJUROR: Lisa Orr has been a studio potter for over 40 years. After completing an MFA at the NYSCC Alfred in 1992\, she received a Fulbright\, an MAAA/NEA and other grants to research ceramics and create films. Her work has been placed in numerous public and private collections. Currently refining an accessible smokeless wood kiln\, she also teaches\, lectures\, and shows nationally and internationally. Orr’s ceramics lushly blend historical\, functional roots with organic\, fluid forms that embrace gentle asymmetry. Inspired by nature and intuition\, her richly textured and colorfully glazed slip-cast surfaces evoke birds on the wing\, coral reefs\, and blooming flowers\, resulting in work that’s vibrant\, emotional\, and assured. \nFEATURED ARTISTS: Alice Abrams • Jack Abramson • Chris Archer • Ben Babcock • Becky Bailey • Sasha M Bergmann • Heather Binder • Josephine Burr • Bob Callahan • Loring Cheney • Claire Corey • Julie Cunningham • Holly Curcio • Christine DeGennaro • Natasha Dikareva • Helen Duncan • Larry W Elardo • Katie Fee • Debra Fleury • Molly Frantz • Leslie Fry • Fionnuala Hart Gerrity • Pam Golden • Joan Hilton • Alexandra Hogan Kosciak • Lindsey McFarland Howarth • Tom Hubbard • Kyle Johns • Hillary Ellen Kane • Grace Kerr • Yeonsoo Kim • Lucien Koonce • Gwendolyn Lanier • Jaeok Lee • Warren Mather • Jennifer McCandless • Eliane Medina • Donna Namnoum • Elizabeth Ocean • Shyanne Ogilvie • Linnea Pappas-Byers • Jenny Peace • Julie Peck • Ingrid Raab • Andrew Robinson (boats by drew) • Ellen Schön • Kimberly Scott • Corran Shrimpton • Anne Thiam • Joan Zagrobelny \nOpen through June 28
URL:https://www.livingconcord.com/event/earthworks-evolution-ceramics-biennial-opens/
LOCATION:The Umbrella Arts Center\, 40 Stow St.\, Concord\, MA\, 01742\, United States
CATEGORIES:Art/Culture
ATTACH;FMTTYPE=image/jpeg:https://www.livingconcord.com/wp-content/uploads/2026/04/UA_EW1080x1350.jpg
ORGANIZER;CN="The Umbrella Arts Center":MAILTO:info@theumbrellaarts.org
END:VEVENT
BEGIN:VEVENT
DTSTART;TZID=America/New_York:20260517T110000
DTEND;TZID=America/New_York:20260517T140000
DTSTAMP:20260423T112444
CREATED:20260422T170058Z
LAST-MODIFIED:20260422T170058Z
UID:10025959-1779015600-1779026400@www.livingconcord.com
SUMMARY:15th Anniversary: The Robbins House Move
DESCRIPTION:Join us as we mark the 15th anniversary of a milestone moment in Concord’s history—the relocation of the Robinson/Garrison family home to its current site and the opening of The Robbins House museum. The program includes a conversation with those who played a key role in the relocation\, offering firsthand perspectives and stories from this important moment in the site’s history\, as well as a special appearance by the Concord Minute Men. \nOriginally built in the early 1820s\, the house was home to members of the Robbins and Garrison families\, descendants of formerly enslaved people who established lives rooted in independence\, land ownership\, and community. After standing for decades at a different location\, the house was saved from demolition in 2010 and carefully moved to Monument Street\, where it was restored and opened to the public as a museum in 2011.
URL:https://www.livingconcord.com/event/15th-anniversary-the-robbins-house-move/
LOCATION:MA
CATEGORIES:Community,Concord Visitor Center,Concord250,History,robbins house
ATTACH;FMTTYPE=image/png:https://www.livingconcord.com/wp-content/uploads/2026/04/TRH-blog-image-2026-04-06T202105.736.png
END:VEVENT
BEGIN:VEVENT
DTSTART;TZID=America/New_York:20260517T140000
DTEND;TZID=America/New_York:20260517T160000
DTSTAMP:20260423T112444
CREATED:20260416T140654Z
LAST-MODIFIED:20260416T140709Z
UID:10025945-1779026400-1779033600@www.livingconcord.com
SUMMARY:CYT Main Stage: The Pied Piper
DESCRIPTION:BUY TICKETS\n\n\nThe town of Hamelin has a big problem…rats! The famous Pied Piper comes to rid the town of the rats only to be cheated by the real rat in town\, the town councilor. Join Cassie and the kids of Hamlin as they chase down the Piper and prove that you really can make your own story and create your own world. \nThis story of gratefulness\, fairness and keeping promises has been told and retold over generations. Rediscover the Pied Piper in this engaging musical composed by Rene Pfister\, with book and lyrics by Rene Pfister and Jan Mankowsky.
URL:https://www.livingconcord.com/event/cyt-main-stage-the-pied-piper-3/
LOCATION:Concord Youth Theatre\, 53 Church St.\, Concord\, MA\, 01742\, United States
ORGANIZER;CN="Concord Youth Theatre":MAILTO:hkidder@comcast.net
GEO:42.4571399;-71.3880066
X-APPLE-STRUCTURED-LOCATION;VALUE=URI;X-ADDRESS=Concord Youth Theatre 53 Church St. Concord MA 01742 United States;X-APPLE-RADIUS=500;X-TITLE=53 Church St.:geo:-71.3880066,42.4571399
END:VEVENT
BEGIN:VEVENT
DTSTART;TZID=America/New_York:20260517T143000
DTEND;TZID=America/New_York:20260517T160000
DTSTAMP:20260423T112444
CREATED:20260422T181312Z
LAST-MODIFIED:20260422T181312Z
UID:10025958-1779028200-1779033600@www.livingconcord.com
SUMMARY:The Concord Orchestra presents "The Heavenly Life"
DESCRIPTION:The orchestra\, conducted by Music Director Zeke Fetrow\, performs Mahler’s Symphony No. 4 with Ann Moss as soprano soloist. A pre-concert talk is scheduled for 7:15pm. \nMahler’s Symphony No. 4 is a comparatively short work\, lasting less than an hour. The final movement of the symphony is a song “The Heavenly Life” with orchestra accompaniment\, sung by a soprano. The words\, which come from German folk poetry\, are about a child’s naïve view of heaven. \nIn the three movements that lead up to this song\, there are many pleasant tunes and the cozy sound of sleigh bells\, but there are disquieting passages as well. For example\, the second movement is a lively scherzo\, but the principal violin plays an eerie solo that represents the devil’s fiddle. The third movement contrasts the serenity of heaven with the struggles of earthly life. \nSoprano Ann Moss is an acclaimed recording artist\, chamber musician\, and champion of living composers. She has been a featured soloist with San Francisco Symphony\, SF Chamber Orchestra\, UC Berkeley Symphony\, SF Contemporary Music Players\, Music of Remembrance\, and the Ives\, Alexander\, Lydian and Hausmann String Quartets. \nTickets for adults and seniors are $25. Admission for youth under 18 is free. For tickets and information\, call 978-369-4967 or visit https://www.concordorchestra.com/heavenly-life.
URL:https://www.livingconcord.com/event/the-concord-orchestra-presents-the-heavenly-life/
LOCATION:51 Walden
CATEGORIES:Music
ATTACH;FMTTYPE=image/jpeg:https://www.livingconcord.com/wp-content/uploads/2026/04/Ann-Moss-High-Res-1-1.jpeg
ORGANIZER;CN="The Concord Orchestra":MAILTO:ticketmanager@concordorchestra.com
END:VEVENT
BEGIN:VEVENT
DTSTART;TZID=America/New_York:20260517T150000
DTEND;TZID=America/New_York:20260517T170000
DTSTAMP:20260423T112444
CREATED:20260316T153937Z
LAST-MODIFIED:20260316T153937Z
UID:10025824-1779030000-1779037200@www.livingconcord.com
SUMMARY:HAIRSPRAY at The Umbrella Arts Center
DESCRIPTION:The Umbrella Stage Company proudly presents HAIRSPRAY\, directed and choreographed by Najee Brown. With big hair\, big laughs\, and even bigger heart\, this joyous\, high-energy musical proves that when we dance together\, anything is possible. \nPreviews: Friday\, April 24 & Saturday\, April 25\, 2026. Playing: Sunday\, April 26\, 2026 through Sunday\, May 17\, 2026 in Theater 144 at 40 Stow Street | Concord\, MA \nHairspray\, the Tony award winner based on the John Waters film\, is a 1960s musical piled bouffant-high with revolutionary joy. Tracy Turnblad’s dream to dance on the Corny Collins Show has come true\, but this determined teen won’t just do the twist and the mashed potato: she’ll use her star power to integrate Baltimore’s TV network to a swingin’ soundtrack! The Color Purple choreographer Najee Brown makes his Umbrella directing debut with this big-hearted celebration of what happens when everyone gets a chance to dance. \nShows run Sunday at 3:00 PM\, Thursday & Friday at 7:30 PM\, and Saturday at 8:00 PM (with an exception for a 6:30 PM performance Sunday\, May 3). \nSpecial KidCare Shows on May 3 and May 17 will allow parents an opportunity to attend a matinee performance while their child(ren) ages 5-12 engage in art activities inspired by the show in one of The Umbrella’s classrooms with an experienced teacher. \nDinner & A Show packages are available for all Thursday night performances. \nBook by Mark O’Donnell & Thomas Meehan. Music by Marc Shaiman. Lyrics by Scott Wittman & Marc Shaiman. Based on the New Line Cinema film\, written and directed by John Waters. \nHAIRSPRAY is presented through special arrangement with Music Theatre International. All authorized performance materials are also supplied by MTI. www.MTIshows.org.
URL:https://www.livingconcord.com/event/hairspray-at-the-umbrella-arts-center-6/
LOCATION:The Umbrella Arts Center\, 40 Stow St.\, Concord\, MA\, 01742\, United States
CATEGORIES:Art/Culture,Family,Night Out,Performing Arts Event,Theater,Umbrella Arts,Umbrella Performing Arts
ATTACH;FMTTYPE=image/png:https://www.livingconcord.com/wp-content/uploads/2026/03/HAIRSPRAY-The-Umbrella-Arts-Center-1080-x-1080.png
ORGANIZER;CN="The Umbrella Arts Center":MAILTO:info@theumbrellaarts.org
END:VEVENT
BEGIN:VEVENT
DTSTART;TZID=America/New_York:20260518T130000
DTEND;TZID=America/New_York:20260518T160000
DTSTAMP:20260423T112444
CREATED:20260423T151051Z
LAST-MODIFIED:20260423T151051Z
UID:10025973-1779109200-1779120000@www.livingconcord.com
SUMMARY:Arnold Arboretum\, Jamaica Plain - Tour!
DESCRIPTION:The Arnold Arboretum of Harvard University is a museum of trees teaching the world about plants. Join the COA as we drive through acres of green and walk among the flowers. After our visit to the Arboretum\, we will stop for lunch at Pepe’s Pizza at the Chestnut Hill Mall. We’ll return to Concord by 3:00 PM. The cost of $35 includes transportation and lunch. Space is limited. Please call to sign up at 978-318-3020 starting May 1st.
URL:https://www.livingconcord.com/event/arnold-arboretum-jamaica-plain-tour/
LOCATION:Harvey Wheeler Community Center\, 1276 Main St\, Concord\, MA\, 01742\, United States
CATEGORIES:Senior
ATTACH;FMTTYPE=image/jpeg:https://www.livingconcord.com/wp-content/uploads/2026/04/Arnold-Arboretum-2.jpg
GEO:42.4556949;-71.3939961
X-APPLE-STRUCTURED-LOCATION;VALUE=URI;X-ADDRESS=Harvey Wheeler Community Center 1276 Main St Concord MA 01742 United States;X-APPLE-RADIUS=500;X-TITLE=1276 Main St:geo:-71.3939961,42.4556949
END:VEVENT
BEGIN:VEVENT
DTSTART;TZID=America/New_York:20260519T083000
DTEND;TZID=America/New_York:20260519T100000
DTSTAMP:20260423T112444
CREATED:20260416T135637Z
LAST-MODIFIED:20260416T135637Z
UID:10025942-1779179400-1779184800@www.livingconcord.com
SUMMARY:Chamber Morning Coffee at Concord’s Colonial Inn
DESCRIPTION:Join us for a Chamber Morning Coffee at Concord’s Colonial Inn\, Tuesday\, May 19th\, @ 8:30-10am.   48 Monument Square\, Concord Center \nKickstart your day with coffee and conversations. Connect with local businesses\, share ideas\, and expand your network!
URL:https://www.livingconcord.com/event/chamber-morning-coffee-at-concords-colonial-inn/
LOCATION:Concord’s Colonial Inn\, 48 Monument Square\, Concord\, MA\, 01742\, United States
ATTACH;FMTTYPE=image/png:https://www.livingconcord.com/wp-content/uploads/2026/04/Chamber-coffee-may.png
ORGANIZER;CN="Concord Chamber of Commerce":MAILTO:director@concordchamberofcommerce.org
GEO:42.4616513;-71.3496128
X-APPLE-STRUCTURED-LOCATION;VALUE=URI;X-ADDRESS=Concord’s Colonial Inn 48 Monument Square Concord MA 01742 United States;X-APPLE-RADIUS=500;X-TITLE=48 Monument Square:geo:-71.3496128,42.4616513
END:VEVENT
BEGIN:VEVENT
DTSTART;TZID=America/New_York:20260519T133000
DTEND;TZID=America/New_York:20260519T143000
DTSTAMP:20260423T112444
CREATED:20260422T203207Z
LAST-MODIFIED:20260422T203207Z
UID:10025963-1779197400-1779201000@www.livingconcord.com
SUMMARY:Chair Yoga with Erica at the Main Library
DESCRIPTION:Join local yoga instructor Erica for yoga with a chair. If you’ve felt that yoga is too challenging or you struggle to get on and off the floor\, this class could be great for you. We will explore all the benefits of yoga in a supportive way using a chair. We will strengthen\, balance\, and stretch our bodies\, find stillness in our minds\, and fullness in our breath all while using a chair to explore traditional yoga poses and functional movement exercises. Options will be given for students to remain seated the whole class\, or to explore some standing poses throughout. \nBio: A yoga student for 20 years and a teacher for over 18 years\, Erica’s classes are uplifting and playful\, yet rooted in functional movement and the great inquiry of the self. In addition to being a yoga teacher\, Erica is an acupressure practitioner and has studied anatomy\, therapeutics and functional movement extensively. She is passionate about working with the prenatal and postnatal community. When not on the mat\, she can be found with her family\, her camera\, and nature! \nThe Concord Free Public Library is committed to providing everyone with unimpeded access to our resources\, programs\, and services. Learn more about accessibility at our libraries. You can also email our administration team or give us a call at either of our libraries to request additional accommodations. \nThe Concord Free Public Library’s programs are free to the public thanks to the generous support of the Friends of the Concord Free Public Library and the Concord Free Public Library Corporation.
URL:https://www.livingconcord.com/event/chair-yoga-with-erica-at-the-main-library-3/
LOCATION:Concord Free Public Library\, 129 Main Street\, Concord\, MA\, 01742\, United States
CATEGORIES:Library Event
ATTACH;FMTTYPE=image/jpeg:https://www.livingconcord.com/wp-content/uploads/2026/04/20260505-chairyogawitherica_2102_md-1.jpg
GEO:42.4588113;-71.3533968
X-APPLE-STRUCTURED-LOCATION;VALUE=URI;X-ADDRESS=Concord Free Public Library 129 Main Street Concord MA 01742 United States;X-APPLE-RADIUS=500;X-TITLE=129 Main Street:geo:-71.3533968,42.4588113
END:VEVENT
BEGIN:VEVENT
DTSTART;TZID=America/New_York:20260520T090000
DTEND;TZID=America/New_York:20260520T110000
DTSTAMP:20260423T112444
CREATED:20260423T140548Z
LAST-MODIFIED:20260423T140548Z
UID:10025968-1779267600-1779274800@www.livingconcord.com
SUMMARY:Group Hike with Bob White - Walden Pond Loop
DESCRIPTION:Join Bob White for a 1.7-mile walk around Walden Pond along the well-prepared Pond Path. We will park in the Walden Pond Reservation parking area and meet at the Thoreau statue and cabin replica beside Walden Street (Route 126). There is an $8.00 per vehicle “honor system” parking fee for Mass. plate vehicles\, paid by credit card at pay machines on site. There is no charge with a Lifetime Senior State Park Pass or handicap placard. Please call the COA office to sign up at 978-318-3020 starting May 1st.
URL:https://www.livingconcord.com/event/group-hike-with-bob-white-walden-pond-loop/
LOCATION:walden pond state reservation\, 915 Walden Street\, Concord\, MA\, 01742\, United States
ATTACH;FMTTYPE=image/jpeg:https://www.livingconcord.com/wp-content/uploads/2026/04/scenic-massachusetts-walden-pond-juergen-roth.jpg
END:VEVENT
BEGIN:VEVENT
DTSTART;TZID=America/New_York:20260523T110000
DTEND;TZID=America/New_York:20260523T123000
DTSTAMP:20260423T112444
CREATED:20260413T152851Z
LAST-MODIFIED:20260413T152851Z
UID:10025919-1779534000-1779539400@www.livingconcord.com
SUMMARY:Emerson-Thoreau Amble
DESCRIPTION:Celebrate Emerson’s birthday and follow the footsteps of writers Ralph Waldo Emerson and Henry David Thoreau! Enjoy the spring weather and learn about the friendship of two notable observers of nature from a museum interpreter. 1-mile walk\, uneven and unpaved terrain\, rain or shine. Meet at the Concord Museum. \nIn partnership with the Ralph Waldo Emerson Memorial Association. \n$10 Members | $20 Non-Members. Includes same-day admission to the Concord Museum.
URL:https://www.livingconcord.com/event/emerson-thoreau-amble/
LOCATION:Concord Museum\, Concord\, MA\, 01742\, United States
ATTACH;FMTTYPE=image/jpeg:https://www.livingconcord.com/wp-content/uploads/2026/04/Amble-Walking-Tour-1024x545-1.jpg
END:VEVENT
END:VCALENDAR