BEGIN:VCALENDAR
VERSION:2.0
PRODID:-//Concord, MA - ECPv6.15.20//NONSGML v1.0//EN
CALSCALE:GREGORIAN
METHOD:PUBLISH
X-ORIGINAL-URL:https://www.livingconcord.com
X-WR-CALDESC:Events for Concord, MA
REFRESH-INTERVAL;VALUE=DURATION:PT1H
X-Robots-Tag:noindex
X-PUBLISHED-TTL:PT1H
BEGIN:VTIMEZONE
TZID:America/New_York
BEGIN:DAYLIGHT
TZOFFSETFROM:-0500
TZOFFSETTO:-0400
TZNAME:EDT
DTSTART:20250309T070000
END:DAYLIGHT
BEGIN:STANDARD
TZOFFSETFROM:-0400
TZOFFSETTO:-0500
TZNAME:EST
DTSTART:20251102T060000
END:STANDARD
BEGIN:DAYLIGHT
TZOFFSETFROM:-0500
TZOFFSETTO:-0400
TZNAME:EDT
DTSTART:20260308T070000
END:DAYLIGHT
BEGIN:STANDARD
TZOFFSETFROM:-0400
TZOFFSETTO:-0500
TZNAME:EST
DTSTART:20261101T060000
END:STANDARD
BEGIN:DAYLIGHT
TZOFFSETFROM:-0500
TZOFFSETTO:-0400
TZNAME:EDT
DTSTART:20270314T070000
END:DAYLIGHT
BEGIN:STANDARD
TZOFFSETFROM:-0400
TZOFFSETTO:-0500
TZNAME:EST
DTSTART:20271107T060000
END:STANDARD
END:VTIMEZONE
BEGIN:VEVENT
DTSTART;TZID=America/New_York:20260505T133000
DTEND;TZID=America/New_York:20260505T143000
DTSTAMP:20260424T050359
CREATED:20260422T170041Z
LAST-MODIFIED:20260422T170041Z
UID:10025960-1777987800-1777991400@www.livingconcord.com
SUMMARY:Chair Yoga with Erica at the Main Library
DESCRIPTION:Join local yoga instructor Erica every Tuesday in May for yoga with a chair. If you’ve felt that yoga is too challenging or you struggle to get on and off the floor\, this class could be great for you. We will explore all the benefits of yoga in a supportive way using a chair. We will strengthen\, balance\, and stretch our bodies\, find stillness in our minds\, and fullness in our breath all while using a chair to explore traditional yoga poses and functional movement exercises. Options will be given for students to remain seated the whole class\, or to explore some standing poses throughout. \nBio: A yoga student for 20 years and a teacher for over 18 years\, Erica’s classes are uplifting and playful\, yet rooted in functional movement and the great inquiry of the self. In addition to being a yoga teacher\, Erica is an acupressure practitioner and has studied anatomy\, therapeutics and functional movement extensively. She is passionate about working with the prenatal and postnatal community. When not on the mat\, she can be found with her family\, her camera\, and nature! \nThe Concord Free Public Library is committed to providing everyone with unimpeded access to our resources\, programs\, and services. Learn more about accessibility at our libraries. You can also email our administration team or give us a call at either of our libraries to request additional accommodations. \nThe Concord Free Public Library’s programs are free to the public thanks to the generous support of the Friends of the Concord Free Public Library and the Concord Free Public Library Corporation.
URL:https://www.livingconcord.com/event/chair-yoga-with-erica-at-the-main-library/
LOCATION:Concord Free Public Library\, 129 Main Street\, Concord\, MA\, 01742\, United States
CATEGORIES:Library Event
ATTACH;FMTTYPE=image/jpeg:https://www.livingconcord.com/wp-content/uploads/2026/04/Chair-yoga.jpg
GEO:42.4588113;-71.3533968
X-APPLE-STRUCTURED-LOCATION;VALUE=URI;X-ADDRESS=Concord Free Public Library 129 Main Street Concord MA 01742 United States;X-APPLE-RADIUS=500;X-TITLE=129 Main Street:geo:-71.3533968,42.4588113
END:VEVENT
BEGIN:VEVENT
DTSTART;TZID=America/New_York:20260512T133000
DTEND;TZID=America/New_York:20260512T143000
DTSTAMP:20260424T050359
CREATED:20260422T203154Z
LAST-MODIFIED:20260422T203154Z
UID:10025962-1778592600-1778596200@www.livingconcord.com
SUMMARY:Chair Yoga with Erica at the Main Library
DESCRIPTION:Join local yoga instructor Erica for yoga with a chair. If you’ve felt that yoga is too challenging or you struggle to get on and off the floor\, this class could be great for you. We will explore all the benefits of yoga in a supportive way using a chair. We will strengthen\, balance\, and stretch our bodies\, find stillness in our minds\, and fullness in our breath all while using a chair to explore traditional yoga poses and functional movement exercises. Options will be given for students to remain seated the whole class\, or to explore some standing poses throughout. \nBio: A yoga student for 20 years and a teacher for over 18 years\, Erica’s classes are uplifting and playful\, yet rooted in functional movement and the great inquiry of the self. In addition to being a yoga teacher\, Erica is an acupressure practitioner and has studied anatomy\, therapeutics and functional movement extensively. She is passionate about working with the prenatal and postnatal community. When not on the mat\, she can be found with her family\, her camera\, and nature! \nThe Concord Free Public Library is committed to providing everyone with unimpeded access to our resources\, programs\, and services. Learn more about accessibility at our libraries. You can also email our administration team or give us a call at either of our libraries to request additional accommodations. \nThe Concord Free Public Library’s programs are free to the public thanks to the generous support of the Friends of the Concord Free Public Library and the Concord Free Public Library Corporation.
URL:https://www.livingconcord.com/event/chair-yoga-with-erica-at-the-main-library-2/
LOCATION:Concord Free Public Library\, 129 Main Street\, Concord\, MA\, 01742\, United States
CATEGORIES:Library Event
ATTACH;FMTTYPE=image/jpeg:https://www.livingconcord.com/wp-content/uploads/2026/04/20260505-chairyogawitherica_2102_md.jpg
GEO:42.4588113;-71.3533968
X-APPLE-STRUCTURED-LOCATION;VALUE=URI;X-ADDRESS=Concord Free Public Library 129 Main Street Concord MA 01742 United States;X-APPLE-RADIUS=500;X-TITLE=129 Main Street:geo:-71.3533968,42.4588113
END:VEVENT
BEGIN:VEVENT
DTSTART;TZID=America/New_York:20260519T133000
DTEND;TZID=America/New_York:20260519T143000
DTSTAMP:20260424T050359
CREATED:20260422T203207Z
LAST-MODIFIED:20260422T203207Z
UID:10025963-1779197400-1779201000@www.livingconcord.com
SUMMARY:Chair Yoga with Erica at the Main Library
DESCRIPTION:Join local yoga instructor Erica for yoga with a chair. If you’ve felt that yoga is too challenging or you struggle to get on and off the floor\, this class could be great for you. We will explore all the benefits of yoga in a supportive way using a chair. We will strengthen\, balance\, and stretch our bodies\, find stillness in our minds\, and fullness in our breath all while using a chair to explore traditional yoga poses and functional movement exercises. Options will be given for students to remain seated the whole class\, or to explore some standing poses throughout. \nBio: A yoga student for 20 years and a teacher for over 18 years\, Erica’s classes are uplifting and playful\, yet rooted in functional movement and the great inquiry of the self. In addition to being a yoga teacher\, Erica is an acupressure practitioner and has studied anatomy\, therapeutics and functional movement extensively. She is passionate about working with the prenatal and postnatal community. When not on the mat\, she can be found with her family\, her camera\, and nature! \nThe Concord Free Public Library is committed to providing everyone with unimpeded access to our resources\, programs\, and services. Learn more about accessibility at our libraries. You can also email our administration team or give us a call at either of our libraries to request additional accommodations. \nThe Concord Free Public Library’s programs are free to the public thanks to the generous support of the Friends of the Concord Free Public Library and the Concord Free Public Library Corporation.
URL:https://www.livingconcord.com/event/chair-yoga-with-erica-at-the-main-library-3/
LOCATION:Concord Free Public Library\, 129 Main Street\, Concord\, MA\, 01742\, United States
CATEGORIES:Library Event
ATTACH;FMTTYPE=image/jpeg:https://www.livingconcord.com/wp-content/uploads/2026/04/20260505-chairyogawitherica_2102_md-1.jpg
GEO:42.4588113;-71.3533968
X-APPLE-STRUCTURED-LOCATION;VALUE=URI;X-ADDRESS=Concord Free Public Library 129 Main Street Concord MA 01742 United States;X-APPLE-RADIUS=500;X-TITLE=129 Main Street:geo:-71.3533968,42.4588113
END:VEVENT
BEGIN:VEVENT
DTSTART;TZID=America/New_York:20260526T133000
DTEND;TZID=America/New_York:20260526T143000
DTSTAMP:20260424T050359
CREATED:20260422T203220Z
LAST-MODIFIED:20260422T203220Z
UID:10025964-1779802200-1779805800@www.livingconcord.com
SUMMARY:Chair Yoga with Erica at the Main Library
DESCRIPTION:Join local yoga instructor Erica for yoga with a chair. If you’ve felt that yoga is too challenging or you struggle to get on and off the floor\, this class could be great for you. We will explore all the benefits of yoga in a supportive way using a chair. We will strengthen\, balance\, and stretch our bodies\, find stillness in our minds\, and fullness in our breath all while using a chair to explore traditional yoga poses and functional movement exercises. Options will be given for students to remain seated the whole class\, or to explore some standing poses throughout. \nBio: A yoga student for 20 years and a teacher for over 18 years\, Erica’s classes are uplifting and playful\, yet rooted in functional movement and the great inquiry of the self. In addition to being a yoga teacher\, Erica is an acupressure practitioner and has studied anatomy\, therapeutics and functional movement extensively. She is passionate about working with the prenatal and postnatal community. When not on the mat\, she can be found with her family\, her camera\, and nature! \nThe Concord Free Public Library is committed to providing everyone with unimpeded access to our resources\, programs\, and services. Learn more about accessibility at our libraries. You can also email our administration team or give us a call at either of our libraries to request additional accommodations. \nThe Concord Free Public Library’s programs are free to the public thanks to the generous support of the Friends of the Concord Free Public Library and the Concord Free Public Library Corporation.
URL:https://www.livingconcord.com/event/chair-yoga-with-erica-at-the-main-library-4/
LOCATION:Concord Free Public Library\, 129 Main Street\, Concord\, MA\, 01742\, United States
CATEGORIES:Library Event
ATTACH;FMTTYPE=image/jpeg:https://www.livingconcord.com/wp-content/uploads/2026/04/20260505-chairyogawitherica_2102_md-2.jpg
GEO:42.4588113;-71.3533968
X-APPLE-STRUCTURED-LOCATION;VALUE=URI;X-ADDRESS=Concord Free Public Library 129 Main Street Concord MA 01742 United States;X-APPLE-RADIUS=500;X-TITLE=129 Main Street:geo:-71.3533968,42.4588113
END:VEVENT
END:VCALENDAR