BEGIN:VCALENDAR
VERSION:2.0
PRODID:-//Concord, MA - ECPv6.15.20//NONSGML v1.0//EN
CALSCALE:GREGORIAN
METHOD:PUBLISH
X-WR-CALNAME:Concord, MA
X-ORIGINAL-URL:https://www.livingconcord.com
X-WR-CALDESC:Events for Concord, MA
REFRESH-INTERVAL;VALUE=DURATION:PT1H
X-Robots-Tag:noindex
X-PUBLISHED-TTL:PT1H
BEGIN:VTIMEZONE
TZID:America/New_York
BEGIN:DAYLIGHT
TZOFFSETFROM:-0500
TZOFFSETTO:-0400
TZNAME:EDT
DTSTART:20250309T070000
END:DAYLIGHT
BEGIN:STANDARD
TZOFFSETFROM:-0400
TZOFFSETTO:-0500
TZNAME:EST
DTSTART:20251102T060000
END:STANDARD
BEGIN:DAYLIGHT
TZOFFSETFROM:-0500
TZOFFSETTO:-0400
TZNAME:EDT
DTSTART:20260308T070000
END:DAYLIGHT
BEGIN:STANDARD
TZOFFSETFROM:-0400
TZOFFSETTO:-0500
TZNAME:EST
DTSTART:20261101T060000
END:STANDARD
BEGIN:DAYLIGHT
TZOFFSETFROM:-0500
TZOFFSETTO:-0400
TZNAME:EDT
DTSTART:20270314T070000
END:DAYLIGHT
BEGIN:STANDARD
TZOFFSETFROM:-0400
TZOFFSETTO:-0500
TZNAME:EST
DTSTART:20271107T060000
END:STANDARD
END:VTIMEZONE
BEGIN:VEVENT
DTSTART;TZID=America/New_York:20260425T193000
DTEND;TZID=America/New_York:20260425T213000
DTSTAMP:20260422T031506
CREATED:20260407T193548Z
LAST-MODIFIED:20260407T194240Z
UID:10025901-1777145400-1777152600@www.livingconcord.com
SUMMARY:Concert with Anna & Mickey and Friends
DESCRIPTION:Get your tickets for April 25\, 2026 – a public concert celebrating spring\, social action\, and a new documentary coming out this summer by Emmy-Winning Acton Documentarian Rob Whittlesey featuring the band “The Anna & Mickey Show.“ \n Tickets for this cabaret-style lively\, inclusive\, Folk-and-Americana  concert are on sale now – this show SOLD OUT last year. \n 7:30 PM Parish Hall First Parish in Concord  \nFinal scene for the documentary will be shot at this event! \nCome spend a candle-lit hour and a half in the company of “Songs that Matter\,’ complete with playful banter and some heartwarming stories-behind-the-songs.. \nTICKETS HERE
URL:https://www.livingconcord.com/event/concert-with-anna-mickey-and-friends/
LOCATION:First Parish Church\, 20 Lexington Rd\, Concord\, MA\, 01742\, United States
ATTACH;FMTTYPE=image/png:https://www.livingconcord.com/wp-content/uploads/2026/04/annaandmickey.png
GEO:42.4595256;-71.3484628
X-APPLE-STRUCTURED-LOCATION;VALUE=URI;X-ADDRESS=First Parish Church 20 Lexington Rd Concord MA 01742 United States;X-APPLE-RADIUS=500;X-TITLE=20 Lexington Rd:geo:-71.3484628,42.4595256
END:VEVENT
BEGIN:VEVENT
DTSTART;TZID=America/New_York:20260509T130000
DTEND;TZID=America/New_York:20260509T153000
DTSTAMP:20260422T031506
CREATED:20260421T201949Z
LAST-MODIFIED:20260421T201949Z
UID:10025956-1778331600-1778340600@www.livingconcord.com
SUMMARY:Traditional Korean Music Concert
DESCRIPTION:Join us in celebrating Korean Family Month! \nA traditional Korean Music concert from meditative court music to folk music will be performed by two instrumentalists: Iksoo Heo on Geomungo (a 6-string zither with a stick) and Grace Kang on Haegum (a string instrument with a bow). \nIksoo Heo from South Korea is a distinguished geomungo performer\, engaged in not only the traditional Korean Music but also collaborating with a wide range of contemporary music. \nGrace Kang has performed widely across the United States\, including her 2010 New York solo recital “haegeum for the Heart\,” presented by the Korea Society. She has also appeared at major international festivals such as the Richmond Folk Festival and the Mexico Chihuahua Internaional Festival. \nThis event is co-sponsored by the Korean Cultural Society of Boston and the Friends of the Concord Free Public Library.
URL:https://www.livingconcord.com/event/traditional-korean-music-concert/
LOCATION:Concord Free Public Library\, 129 Main Street\, Concord\, MA\, 01742\, United States
CATEGORIES:Family,Library Event,Music
GEO:42.4588113;-71.3533968
X-APPLE-STRUCTURED-LOCATION;VALUE=URI;X-ADDRESS=Concord Free Public Library 129 Main Street Concord MA 01742 United States;X-APPLE-RADIUS=500;X-TITLE=129 Main Street:geo:-71.3533968,42.4588113
END:VEVENT
END:VCALENDAR