BEGIN:VCALENDAR
VERSION:2.0
PRODID:-//Concord, MA - ECPv6.15.20//NONSGML v1.0//EN
CALSCALE:GREGORIAN
METHOD:PUBLISH
X-ORIGINAL-URL:https://www.livingconcord.com
X-WR-CALDESC:Events for Concord, MA
REFRESH-INTERVAL;VALUE=DURATION:PT1H
X-Robots-Tag:noindex
X-PUBLISHED-TTL:PT1H
BEGIN:VTIMEZONE
TZID:America/New_York
BEGIN:DAYLIGHT
TZOFFSETFROM:-0500
TZOFFSETTO:-0400
TZNAME:EDT
DTSTART:20250309T070000
END:DAYLIGHT
BEGIN:STANDARD
TZOFFSETFROM:-0400
TZOFFSETTO:-0500
TZNAME:EST
DTSTART:20251102T060000
END:STANDARD
BEGIN:DAYLIGHT
TZOFFSETFROM:-0500
TZOFFSETTO:-0400
TZNAME:EDT
DTSTART:20260308T070000
END:DAYLIGHT
BEGIN:STANDARD
TZOFFSETFROM:-0400
TZOFFSETTO:-0500
TZNAME:EST
DTSTART:20261101T060000
END:STANDARD
BEGIN:DAYLIGHT
TZOFFSETFROM:-0500
TZOFFSETTO:-0400
TZNAME:EDT
DTSTART:20270314T070000
END:DAYLIGHT
BEGIN:STANDARD
TZOFFSETFROM:-0400
TZOFFSETTO:-0500
TZNAME:EST
DTSTART:20271107T060000
END:STANDARD
END:VTIMEZONE
BEGIN:VEVENT
DTSTART;VALUE=DATE:20260421
DTEND;VALUE=DATE:20260422
DTSTAMP:20260419T215236
CREATED:20260304T223651Z
LAST-MODIFIED:20260304T223651Z
UID:10025799-1776729600-1776815999@www.livingconcord.com
SUMMARY:(The )Magic(al) (Is/of )Here: Large-Scale Paintings of Local Flowers by Maggie Stanley
DESCRIPTION:April 3-30 in the Munroe Gallery at the Concord Main Library. See library website for daily hours. \nImmerse yourself in the beauty of local flowers as we await their blooming in later spring and summer. \nMost of the paintings in this show are based on photographs taken on walks throughout Concord\, including at Great Meadows\, the Buttrick Estate\, Concord Community Gardens\, the “wisteria house” across the street from the Main Library\, and even the Keyes Road municipal parking lot. \nMany of the works were created in 2024 for Flora(l) Portals\, my solo show in the skylit atrium of the Morse Institute Library in Natick\, MA. Because the pieces were hung from balcony railings and viewed from a distance\, I used canvases ranging from 3 to 6 feet in height—hence the name of that show\, as some of the paintings are almost the size of doors. \nI’m a largely self-taught artist\, born and raised in Massachusetts\, with my childhood spent in Arlington\, Sudbury\, and then Concord\, where I now reside. Although I’ve worked in multiple mediums\, my main focus the past few years has been floral paintings on textured canvas\, which I started while in Lois Andersen’s Monday Night Painters group at The Umbrella Arts Center. I am ever-appreciative of Lois\, the camaraderie of the group\, and the variety of local trails and publicly-accessible gardens that provide such an abundance of beauty. I hope my art can convey some of that beauty to others\, no matter the season\, and encourage exploration when the conditions are right! \nwww.maggiestanley.net
URL:https://www.livingconcord.com/event/the-magical-is-of-here-large-scale-paintings-of-local-flowers-by-maggie-stanley-10/
LOCATION:Concord Main Library\, Concord\, MA\, 01742\, United States
CATEGORIES:Art/Culture,exhibit,Library Event
ATTACH;FMTTYPE=image/jpeg:https://www.livingconcord.com/wp-content/uploads/2026/03/IMG_9038-1.jpeg
END:VEVENT
BEGIN:VEVENT
DTSTART;VALUE=DATE:20260423
DTEND;VALUE=DATE:20260424
DTSTAMP:20260419T215236
CREATED:20260304T222340Z
LAST-MODIFIED:20260304T222340Z
UID:10025783-1776902400-1776988799@www.livingconcord.com
SUMMARY:(The )Magic(al) (Is/of )Here: Large-Scale Paintings of Local Flowers by Maggie Stanley
DESCRIPTION:April 3-30 in the Munroe Gallery at the Concord Main Library. See library website for daily hours. \nImmerse yourself in the beauty of local flowers as we await their blooming in later spring and summer. \nMost of the paintings in this show are based on photographs taken on walks throughout Concord\, including at Great Meadows\, the Buttrick Estate\, Concord Community Gardens\, the “wisteria house” across the street from the Main Library\, and even the Keyes Road municipal parking lot. \nMany of the works were created in 2024 for Flora(l) Portals\, my solo show in the skylit atrium of the Morse Institute Library in Natick\, MA. Because the pieces were hung from balcony railings and viewed from a distance\, I used canvases ranging from 3 to 6 feet in height—hence the name of that show\, as some of the paintings are almost the size of doors. \nI’m a largely self-taught artist\, born and raised in Massachusetts\, with my childhood spent in Arlington\, Sudbury\, and then Concord\, where I now reside. Although I’ve worked in multiple mediums\, my main focus the past few years has been floral paintings on textured canvas\, which I started while in Lois Andersen’s Monday Night Painters group at The Umbrella Arts Center. I am ever-appreciative of Lois\, the camaraderie of the group\, and the variety of local trails and publicly-accessible gardens that provide such an abundance of beauty. I hope my art can convey some of that beauty to others\, no matter the season\, and encourage exploration when the conditions are right! \nwww.maggiestanley.net
URL:https://www.livingconcord.com/event/the-magical-is-of-here-large-scale-paintings-of-local-flowers-by-maggie-stanley/
LOCATION:Concord Main Library\, Concord\, MA\, 01742\, United States
CATEGORIES:Art/Culture,exhibit,Library Event
ATTACH;FMTTYPE=image/jpeg:https://www.livingconcord.com/wp-content/uploads/2026/03/IMG_9038-1.jpeg
END:VEVENT
BEGIN:VEVENT
DTSTART;VALUE=DATE:20260425
DTEND;VALUE=DATE:20260426
DTSTAMP:20260419T215236
CREATED:20260304T223714Z
LAST-MODIFIED:20260304T223714Z
UID:10025800-1777075200-1777161599@www.livingconcord.com
SUMMARY:(The )Magic(al) (Is/of )Here: Large-Scale Paintings of Local Flowers by Maggie Stanley
DESCRIPTION:April 3-30 in the Munroe Gallery at the Concord Main Library. See library website for daily hours. \nImmerse yourself in the beauty of local flowers as we await their blooming in later spring and summer. \nMost of the paintings in this show are based on photographs taken on walks throughout Concord\, including at Great Meadows\, the Buttrick Estate\, Concord Community Gardens\, the “wisteria house” across the street from the Main Library\, and even the Keyes Road municipal parking lot. \nMany of the works were created in 2024 for Flora(l) Portals\, my solo show in the skylit atrium of the Morse Institute Library in Natick\, MA. Because the pieces were hung from balcony railings and viewed from a distance\, I used canvases ranging from 3 to 6 feet in height—hence the name of that show\, as some of the paintings are almost the size of doors. \nI’m a largely self-taught artist\, born and raised in Massachusetts\, with my childhood spent in Arlington\, Sudbury\, and then Concord\, where I now reside. Although I’ve worked in multiple mediums\, my main focus the past few years has been floral paintings on textured canvas\, which I started while in Lois Andersen’s Monday Night Painters group at The Umbrella Arts Center. I am ever-appreciative of Lois\, the camaraderie of the group\, and the variety of local trails and publicly-accessible gardens that provide such an abundance of beauty. I hope my art can convey some of that beauty to others\, no matter the season\, and encourage exploration when the conditions are right! \nwww.maggiestanley.net
URL:https://www.livingconcord.com/event/the-magical-is-of-here-large-scale-paintings-of-local-flowers-by-maggie-stanley-11/
LOCATION:Concord Main Library\, Concord\, MA\, 01742\, United States
CATEGORIES:Art/Culture,exhibit,Library Event
ATTACH;FMTTYPE=image/jpeg:https://www.livingconcord.com/wp-content/uploads/2026/03/IMG_9038-1.jpeg
END:VEVENT
BEGIN:VEVENT
DTSTART;VALUE=DATE:20260426
DTEND;VALUE=DATE:20260427
DTSTAMP:20260419T215236
CREATED:20260304T223740Z
LAST-MODIFIED:20260304T223740Z
UID:10025801-1777161600-1777247999@www.livingconcord.com
SUMMARY:(The )Magic(al) (Is/of )Here: Large-Scale Paintings of Local Flowers by Maggie Stanley
DESCRIPTION:April 3-30 in the Munroe Gallery at the Concord Main Library. See library website for daily hours. \nImmerse yourself in the beauty of local flowers as we await their blooming in later spring and summer. \nMost of the paintings in this show are based on photographs taken on walks throughout Concord\, including at Great Meadows\, the Buttrick Estate\, Concord Community Gardens\, the “wisteria house” across the street from the Main Library\, and even the Keyes Road municipal parking lot. \nMany of the works were created in 2024 for Flora(l) Portals\, my solo show in the skylit atrium of the Morse Institute Library in Natick\, MA. Because the pieces were hung from balcony railings and viewed from a distance\, I used canvases ranging from 3 to 6 feet in height—hence the name of that show\, as some of the paintings are almost the size of doors. \nI’m a largely self-taught artist\, born and raised in Massachusetts\, with my childhood spent in Arlington\, Sudbury\, and then Concord\, where I now reside. Although I’ve worked in multiple mediums\, my main focus the past few years has been floral paintings on textured canvas\, which I started while in Lois Andersen’s Monday Night Painters group at The Umbrella Arts Center. I am ever-appreciative of Lois\, the camaraderie of the group\, and the variety of local trails and publicly-accessible gardens that provide such an abundance of beauty. I hope my art can convey some of that beauty to others\, no matter the season\, and encourage exploration when the conditions are right! \nwww.maggiestanley.net
URL:https://www.livingconcord.com/event/the-magical-is-of-here-large-scale-paintings-of-local-flowers-by-maggie-stanley-12/
LOCATION:Concord Main Library\, Concord\, MA\, 01742\, United States
CATEGORIES:Art/Culture,exhibit,Library Event
ATTACH;FMTTYPE=image/jpeg:https://www.livingconcord.com/wp-content/uploads/2026/03/IMG_9038-1.jpeg
END:VEVENT
BEGIN:VEVENT
DTSTART;VALUE=DATE:20260428
DTEND;VALUE=DATE:20260429
DTSTAMP:20260419T215236
CREATED:20260304T223802Z
LAST-MODIFIED:20260304T223802Z
UID:10025802-1777334400-1777420799@www.livingconcord.com
SUMMARY:(The )Magic(al) (Is/of )Here: Large-Scale Paintings of Local Flowers by Maggie Stanley
DESCRIPTION:April 3-30 in the Munroe Gallery at the Concord Main Library. See library website for daily hours. \nImmerse yourself in the beauty of local flowers as we await their blooming in later spring and summer. \nMost of the paintings in this show are based on photographs taken on walks throughout Concord\, including at Great Meadows\, the Buttrick Estate\, Concord Community Gardens\, the “wisteria house” across the street from the Main Library\, and even the Keyes Road municipal parking lot. \nMany of the works were created in 2024 for Flora(l) Portals\, my solo show in the skylit atrium of the Morse Institute Library in Natick\, MA. Because the pieces were hung from balcony railings and viewed from a distance\, I used canvases ranging from 3 to 6 feet in height—hence the name of that show\, as some of the paintings are almost the size of doors. \nI’m a largely self-taught artist\, born and raised in Massachusetts\, with my childhood spent in Arlington\, Sudbury\, and then Concord\, where I now reside. Although I’ve worked in multiple mediums\, my main focus the past few years has been floral paintings on textured canvas\, which I started while in Lois Andersen’s Monday Night Painters group at The Umbrella Arts Center. I am ever-appreciative of Lois\, the camaraderie of the group\, and the variety of local trails and publicly-accessible gardens that provide such an abundance of beauty. I hope my art can convey some of that beauty to others\, no matter the season\, and encourage exploration when the conditions are right! \nwww.maggiestanley.net
URL:https://www.livingconcord.com/event/the-magical-is-of-here-large-scale-paintings-of-local-flowers-by-maggie-stanley-13/
LOCATION:Concord Main Library\, Concord\, MA\, 01742\, United States
CATEGORIES:Art/Culture,exhibit,Library Event
ATTACH;FMTTYPE=image/jpeg:https://www.livingconcord.com/wp-content/uploads/2026/03/IMG_9038-1.jpeg
END:VEVENT
BEGIN:VEVENT
DTSTART;VALUE=DATE:20260429
DTEND;VALUE=DATE:20260629
DTSTAMP:20260419T215236
CREATED:20260413T191404Z
LAST-MODIFIED:20260413T191404Z
UID:10025920-1777453200-1782680400@www.livingconcord.com
SUMMARY:"Earthworks: Evolution" Ceramics Biennial Opens
DESCRIPTION:The Umbrella Arts Center of Concord\, MA presents its second Ceramics Biennial Exhibition\, “Earthworks: Evolution”\, a regional show celebrating the depth of history\, tradition\, and cultural expression in contemporary ceramics\, and the ways in which artists continue to expand the field through innovation and reinterpretation. \nAdmission is free and the Allie Kussin Gallery is open to all. The works in this exhibition will be available for purchase via ArtCloud.com after the opening reception; for earlier inquiries\, please reach out to Julia@TheUmbrellaArts.org.\nExhibition Dates: April 29 – June 28\, 2026\nOpening Reception: April 29\, 6:00 – 8:00 PM (RSVP requested)\nForm and Narrative on Elegantly Embossed Ceramics with Juror and Visiting Artist Lisa Orr: Workshop ($70) | Artist’s Talk (Free) – RSVP requested \nJUROR: Lisa Orr has been a studio potter for over 40 years. After completing an MFA at the NYSCC Alfred in 1992\, she received a Fulbright\, an MAAA/NEA and other grants to research ceramics and create films. Her work has been placed in numerous public and private collections. Currently refining an accessible smokeless wood kiln\, she also teaches\, lectures\, and shows nationally and internationally. Orr’s ceramics lushly blend historical\, functional roots with organic\, fluid forms that embrace gentle asymmetry. Inspired by nature and intuition\, her richly textured and colorfully glazed slip-cast surfaces evoke birds on the wing\, coral reefs\, and blooming flowers\, resulting in work that’s vibrant\, emotional\, and assured. \nFEATURED ARTISTS: Alice Abrams • Jack Abramson • Chris Archer • Ben Babcock • Becky Bailey • Sasha M Bergmann • Heather Binder • Josephine Burr • Bob Callahan • Loring Cheney • Claire Corey • Julie Cunningham • Holly Curcio • Christine DeGennaro • Natasha Dikareva • Helen Duncan • Larry W Elardo • Katie Fee • Debra Fleury • Molly Frantz • Leslie Fry • Fionnuala Hart Gerrity • Pam Golden • Joan Hilton • Alexandra Hogan Kosciak • Lindsey McFarland Howarth • Tom Hubbard • Kyle Johns • Hillary Ellen Kane • Grace Kerr • Yeonsoo Kim • Lucien Koonce • Gwendolyn Lanier • Jaeok Lee • Warren Mather • Jennifer McCandless • Eliane Medina • Donna Namnoum • Elizabeth Ocean • Shyanne Ogilvie • Linnea Pappas-Byers • Jenny Peace • Julie Peck • Ingrid Raab • Andrew Robinson (boats by drew) • Ellen Schön • Kimberly Scott • Corran Shrimpton • Anne Thiam • Joan Zagrobelny \nOpen through June 28
URL:https://www.livingconcord.com/event/earthworks-evolution-ceramics-biennial-opens/
LOCATION:The Umbrella Arts Center\, 40 Stow St.\, Concord\, MA\, 01742\, United States
CATEGORIES:Art/Culture
ATTACH;FMTTYPE=image/jpeg:https://www.livingconcord.com/wp-content/uploads/2026/04/UA_EW1080x1350.jpg
ORGANIZER;CN="The Umbrella Arts Center":MAILTO:info@theumbrellaarts.org
END:VEVENT
BEGIN:VEVENT
DTSTART;VALUE=DATE:20260430
DTEND;VALUE=DATE:20260501
DTSTAMP:20260419T215236
CREATED:20260304T223830Z
LAST-MODIFIED:20260304T223830Z
UID:10025803-1777507200-1777593599@www.livingconcord.com
SUMMARY:(The )Magic(al) (Is/of )Here: Large-Scale Paintings of Local Flowers by Maggie Stanley
DESCRIPTION:April 3-30 in the Munroe Gallery at the Concord Main Library. See library website for daily hours. \nImmerse yourself in the beauty of local flowers as we await their blooming in later spring and summer. \nMost of the paintings in this show are based on photographs taken on walks throughout Concord\, including at Great Meadows\, the Buttrick Estate\, Concord Community Gardens\, the “wisteria house” across the street from the Main Library\, and even the Keyes Road municipal parking lot. \nMany of the works were created in 2024 for Flora(l) Portals\, my solo show in the skylit atrium of the Morse Institute Library in Natick\, MA. Because the pieces were hung from balcony railings and viewed from a distance\, I used canvases ranging from 3 to 6 feet in height—hence the name of that show\, as some of the paintings are almost the size of doors. \nI’m a largely self-taught artist\, born and raised in Massachusetts\, with my childhood spent in Arlington\, Sudbury\, and then Concord\, where I now reside. Although I’ve worked in multiple mediums\, my main focus the past few years has been floral paintings on textured canvas\, which I started while in Lois Andersen’s Monday Night Painters group at The Umbrella Arts Center. I am ever-appreciative of Lois\, the camaraderie of the group\, and the variety of local trails and publicly-accessible gardens that provide such an abundance of beauty. I hope my art can convey some of that beauty to others\, no matter the season\, and encourage exploration when the conditions are right! \nwww.maggiestanley.net
URL:https://www.livingconcord.com/event/the-magical-is-of-here-large-scale-paintings-of-local-flowers-by-maggie-stanley-14/
LOCATION:Concord Main Library\, Concord\, MA\, 01742\, United States
CATEGORIES:Art/Culture,exhibit,Library Event
ATTACH;FMTTYPE=image/jpeg:https://www.livingconcord.com/wp-content/uploads/2026/03/IMG_9038-1.jpeg
END:VEVENT
END:VCALENDAR