BEGIN:VCALENDAR
VERSION:2.0
PRODID:-//Concord, MA - ECPv6.15.20//NONSGML v1.0//EN
CALSCALE:GREGORIAN
METHOD:PUBLISH
X-WR-CALNAME:Concord, MA
X-ORIGINAL-URL:https://www.livingconcord.com
X-WR-CALDESC:Events for Concord, MA
REFRESH-INTERVAL;VALUE=DURATION:PT1H
X-Robots-Tag:noindex
X-PUBLISHED-TTL:PT1H
BEGIN:VTIMEZONE
TZID:America/New_York
BEGIN:DAYLIGHT
TZOFFSETFROM:-0500
TZOFFSETTO:-0400
TZNAME:EDT
DTSTART:20250309T070000
END:DAYLIGHT
BEGIN:STANDARD
TZOFFSETFROM:-0400
TZOFFSETTO:-0500
TZNAME:EST
DTSTART:20251102T060000
END:STANDARD
BEGIN:DAYLIGHT
TZOFFSETFROM:-0500
TZOFFSETTO:-0400
TZNAME:EDT
DTSTART:20260308T070000
END:DAYLIGHT
BEGIN:STANDARD
TZOFFSETFROM:-0400
TZOFFSETTO:-0500
TZNAME:EST
DTSTART:20261101T060000
END:STANDARD
BEGIN:DAYLIGHT
TZOFFSETFROM:-0500
TZOFFSETTO:-0400
TZNAME:EDT
DTSTART:20270314T070000
END:DAYLIGHT
BEGIN:STANDARD
TZOFFSETFROM:-0400
TZOFFSETTO:-0500
TZNAME:EST
DTSTART:20271107T060000
END:STANDARD
END:VTIMEZONE
BEGIN:VEVENT
DTSTART;TZID=America/New_York:20260516T200000
DTEND;TZID=America/New_York:20260516T213000
DTSTAMP:20260423T051958
CREATED:20260422T181328Z
LAST-MODIFIED:20260422T181328Z
UID:10025957-1778961600-1778967000@www.livingconcord.com
SUMMARY:The Concord Orchestra presents "The Heavenly Life"
DESCRIPTION:The orchestra\, conducted by Music Director Zeke Fetrow\, performs Mahler’s Symphony No. 4 with Ann Moss as soprano soloist. A pre-concert talk is scheduled for 7:15pm. \nMahler’s Symphony No. 4 is a comparatively short work\, lasting less than an hour. The final movement of the symphony is a song “The Heavenly Life” with orchestra accompaniment\, sung by a soprano. The words\, which come from German folk poetry\, are about a child’s naïve view of heaven. \nIn the three movements that lead up to this song\, there are many pleasant tunes and the cozy sound of sleigh bells\, but there are disquieting passages as well. For example\, the second movement is a lively scherzo\, but the principal violin plays an eerie solo that represents the devil’s fiddle. The third movement contrasts the serenity of heaven with the struggles of earthly life. \nSoprano Ann Moss is an acclaimed recording artist\, chamber musician\, and champion of living composers. She has been a featured soloist with San Francisco Symphony\, SF Chamber Orchestra\, UC Berkeley Symphony\, SF Contemporary Music Players\, Music of Remembrance\, and the Ives\, Alexander\, Lydian and Hausmann String Quartets. \nTickets for adults and seniors are $25. Admission for youth under 18 is free. For tickets and information\, call 978-369-4967 or visit https://www.concordorchestra.com/heavenly-life.
URL:https://www.livingconcord.com/event/the-concord-orchestra-presents-the-heavenly-life-2/
LOCATION:51 Walden
CATEGORIES:Music
ATTACH;FMTTYPE=image/jpeg:https://www.livingconcord.com/wp-content/uploads/2026/04/Ann-Moss-High-Res-1.jpeg
ORGANIZER;CN="The Concord Orchestra":MAILTO:ticketmanager@concordorchestra.com
END:VEVENT
END:VCALENDAR