BEGIN:VCALENDAR
VERSION:2.0
PRODID:-//Concord, MA - ECPv6.15.20//NONSGML v1.0//EN
CALSCALE:GREGORIAN
METHOD:PUBLISH
X-ORIGINAL-URL:https://www.livingconcord.com
X-WR-CALDESC:Events for Concord, MA
REFRESH-INTERVAL;VALUE=DURATION:PT1H
X-Robots-Tag:noindex
X-PUBLISHED-TTL:PT1H
BEGIN:VTIMEZONE
TZID:America/New_York
BEGIN:DAYLIGHT
TZOFFSETFROM:-0500
TZOFFSETTO:-0400
TZNAME:EDT
DTSTART:20250309T070000
END:DAYLIGHT
BEGIN:STANDARD
TZOFFSETFROM:-0400
TZOFFSETTO:-0500
TZNAME:EST
DTSTART:20251102T060000
END:STANDARD
BEGIN:DAYLIGHT
TZOFFSETFROM:-0500
TZOFFSETTO:-0400
TZNAME:EDT
DTSTART:20260308T070000
END:DAYLIGHT
BEGIN:STANDARD
TZOFFSETFROM:-0400
TZOFFSETTO:-0500
TZNAME:EST
DTSTART:20261101T060000
END:STANDARD
BEGIN:DAYLIGHT
TZOFFSETFROM:-0500
TZOFFSETTO:-0400
TZNAME:EDT
DTSTART:20270314T070000
END:DAYLIGHT
BEGIN:STANDARD
TZOFFSETFROM:-0400
TZOFFSETTO:-0500
TZNAME:EST
DTSTART:20271107T060000
END:STANDARD
END:VTIMEZONE
BEGIN:VEVENT
DTSTART;TZID=America/New_York:20260506T190000
DTEND;TZID=America/New_York:20260506T210000
DTSTAMP:20260424T111341
CREATED:20260421T202029Z
LAST-MODIFIED:20260421T202029Z
UID:10025955-1778094000-1778101200@www.livingconcord.com
SUMMARY:Trinitarian Congregational Church and the Struggle for Abolition from 1826 through the Civil War
DESCRIPTION:Trinitarian Congregational Church (TriCon) in Concord will host award-winning historian and author Robert A Gross in conversation with Kyle B Roberts\, Executive Director of the Congregational Library & Archives in Boston. The two will discuss abolition in New England in the mid 1800s\, with specific examples from the history of TriCon\, its pastors\, and parishioners in the early years of its founding. In 1826\, as the First Church in Concord moved toward Unitarianism\, nine members (including Maria\, Elizabeth and Jane Thoreau\, aunts of Henry David) joined others from the town to form what was to become Trinitarian Congregational Church. In this\, our 200th year\, TriCon commemorates its founding and shares some of its early history in this public program\, which is free and open to all.
URL:https://www.livingconcord.com/event/trinitarian-congregational-church-and-the-struggle-for-abolition-from-1826-through-the-civil-war/
LOCATION:TriCon Church\, 54 Walden Street\, Concord\, MA\, 01742\, United States
CATEGORIES:Author Visit,Community,History,Speaker
ATTACH;FMTTYPE=image/png:https://www.livingconcord.com/wp-content/uploads/2026/04/Poster-for-Concord-Bookshop-Window-1-scaled.png
GEO:42.4583111;-71.3496349
X-APPLE-STRUCTURED-LOCATION;VALUE=URI;X-ADDRESS=TriCon Church 54 Walden Street Concord MA 01742 United States;X-APPLE-RADIUS=500;X-TITLE=54 Walden Street:geo:-71.3496349,42.4583111
END:VEVENT
BEGIN:VEVENT
DTSTART;TZID=America/New_York:20260517T110000
DTEND;TZID=America/New_York:20260517T140000
DTSTAMP:20260424T111341
CREATED:20260422T170058Z
LAST-MODIFIED:20260422T170058Z
UID:10025959-1779015600-1779026400@www.livingconcord.com
SUMMARY:15th Anniversary: The Robbins House Move
DESCRIPTION:Join us as we mark the 15th anniversary of a milestone moment in Concord’s history—the relocation of the Robinson/Garrison family home to its current site and the opening of The Robbins House museum. The program includes a conversation with those who played a key role in the relocation\, offering firsthand perspectives and stories from this important moment in the site’s history\, as well as a special appearance by the Concord Minute Men. \nOriginally built in the early 1820s\, the house was home to members of the Robbins and Garrison families\, descendants of formerly enslaved people who established lives rooted in independence\, land ownership\, and community. After standing for decades at a different location\, the house was saved from demolition in 2010 and carefully moved to Monument Street\, where it was restored and opened to the public as a museum in 2011.
URL:https://www.livingconcord.com/event/15th-anniversary-the-robbins-house-move/
CATEGORIES:Community,Concord Visitor Center,Concord250,History,robbins house
ATTACH;FMTTYPE=image/png:https://www.livingconcord.com/wp-content/uploads/2026/04/TRH-blog-image-2026-04-06T202105.736.png
END:VEVENT
END:VCALENDAR