BEGIN:VCALENDAR
VERSION:2.0
PRODID:-//Concord, MA - ECPv6.15.20//NONSGML v1.0//EN
CALSCALE:GREGORIAN
METHOD:PUBLISH
X-WR-CALNAME:Concord, MA
X-ORIGINAL-URL:https://www.livingconcord.com
X-WR-CALDESC:Events for Concord, MA
REFRESH-INTERVAL;VALUE=DURATION:PT1H
X-Robots-Tag:noindex
X-PUBLISHED-TTL:PT1H
BEGIN:VTIMEZONE
TZID:America/New_York
BEGIN:DAYLIGHT
TZOFFSETFROM:-0500
TZOFFSETTO:-0400
TZNAME:EDT
DTSTART:20250309T070000
END:DAYLIGHT
BEGIN:STANDARD
TZOFFSETFROM:-0400
TZOFFSETTO:-0500
TZNAME:EST
DTSTART:20251102T060000
END:STANDARD
BEGIN:DAYLIGHT
TZOFFSETFROM:-0500
TZOFFSETTO:-0400
TZNAME:EDT
DTSTART:20260308T070000
END:DAYLIGHT
BEGIN:STANDARD
TZOFFSETFROM:-0400
TZOFFSETTO:-0500
TZNAME:EST
DTSTART:20261101T060000
END:STANDARD
BEGIN:DAYLIGHT
TZOFFSETFROM:-0500
TZOFFSETTO:-0400
TZNAME:EDT
DTSTART:20270314T070000
END:DAYLIGHT
BEGIN:STANDARD
TZOFFSETFROM:-0400
TZOFFSETTO:-0500
TZNAME:EST
DTSTART:20271107T060000
END:STANDARD
END:VTIMEZONE
BEGIN:VEVENT
DTSTART;VALUE=DATE:20260422
DTEND;VALUE=DATE:20260427
DTSTAMP:20260423T051233
CREATED:20260403T023942Z
LAST-MODIFIED:20260403T030954Z
UID:10025895-1776816000-1777247999@www.livingconcord.com
SUMMARY:Wild & Scenic Film Festival
DESCRIPTION:To celebrate Earth Day and OARS’ 40th anniversary\, we are bringing the Wild & Scenic Film Festival to Concord\, where 3 remarkable rivers meet and America’s roots run deep. In partnerships with friends and local organizations\, we are hosting five days of community-focused events in and around Concord Center\, including film screenings\, art installations\, guest speakers\, outdoor walks\, and a 3-day cross-town scavenger hunt. Join us for an inspirational\, educational\, always wild\, and sure to be scenic five days in Concord!
URL:https://www.livingconcord.com/event/concord-river-race/
CATEGORIES:Art/Culture,Community,Family,Film,Local Business Event,Nature,outdoor
ATTACH;FMTTYPE=image/png:https://www.livingconcord.com/wp-content/uploads/2026/04/1.png
END:VEVENT
BEGIN:VEVENT
DTSTART;TZID=America/New_York:20260422T150000
DTEND;TZID=America/New_York:20260422T170000
DTSTAMP:20260423T051233
CREATED:20260422T015947Z
LAST-MODIFIED:20260422T015947Z
UID:10025951-1776870000-1776877200@www.livingconcord.com
SUMMARY:Our Power\, Our Planet: Earth Day Activities & Volunteer Exploration
DESCRIPTION:(3:00 – 3:30 pm) Celebrate National Volunteer Week and Earth Day with Concord Land Conservation Trust\, and embrace this year’s Earth Day theme\, “Our Power\, Our Planet”! Meet us under a tent in the field at Jeans Land for refreshments and a chance to connect with some of our amazing volunteers. Executive Director Jane Gruba-Chevalier and Manager of Land Stewardship Alexi Dart-Padover will share updates on our volunteer programs and plans for the upcoming stewardship season. \n(3:30 – 5:00 pm) Then\, put your power into action with an Earth Day Weed Warrior activity at our Upper Spencer Brook Valley property: help remove invasive buckthorn and spread seed bombs made by volunteers this winter. \nCome for part of the event or stay for the full experience—either way\, it’s a fun way to get outside\, connect with nature\, and make a difference in our local habitats on Earth Day! \nPark and meet at Jeans Land off Westford Road\, across from #107.
URL:https://www.livingconcord.com/event/our-power-our-planet-earth-day-activities-volunteer-exploration/
CATEGORIES:Community,Nature,outdoor
ATTACH;FMTTYPE=image/png:https://www.livingconcord.com/wp-content/uploads/2026/04/CLCT-Logo24-GREEN.png
END:VEVENT
END:VCALENDAR