BEGIN:VCALENDAR
VERSION:2.0
PRODID:-//Concord, MA - ECPv6.15.20//NONSGML v1.0//EN
CALSCALE:GREGORIAN
METHOD:PUBLISH
X-ORIGINAL-URL:https://www.livingconcord.com
X-WR-CALDESC:Events for Concord, MA
REFRESH-INTERVAL;VALUE=DURATION:PT1H
X-Robots-Tag:noindex
X-PUBLISHED-TTL:PT1H
BEGIN:VTIMEZONE
TZID:America/New_York
BEGIN:DAYLIGHT
TZOFFSETFROM:-0500
TZOFFSETTO:-0400
TZNAME:EDT
DTSTART:20250309T070000
END:DAYLIGHT
BEGIN:STANDARD
TZOFFSETFROM:-0400
TZOFFSETTO:-0500
TZNAME:EST
DTSTART:20251102T060000
END:STANDARD
BEGIN:DAYLIGHT
TZOFFSETFROM:-0500
TZOFFSETTO:-0400
TZNAME:EDT
DTSTART:20260308T070000
END:DAYLIGHT
BEGIN:STANDARD
TZOFFSETFROM:-0400
TZOFFSETTO:-0500
TZNAME:EST
DTSTART:20261101T060000
END:STANDARD
BEGIN:DAYLIGHT
TZOFFSETFROM:-0500
TZOFFSETTO:-0400
TZNAME:EDT
DTSTART:20270314T070000
END:DAYLIGHT
BEGIN:STANDARD
TZOFFSETFROM:-0400
TZOFFSETTO:-0500
TZNAME:EST
DTSTART:20271107T060000
END:STANDARD
END:VTIMEZONE
BEGIN:VEVENT
DTSTART;TZID=America/New_York:20260509T083000
DTEND;TZID=America/New_York:20260509T123000
DTSTAMP:20260425T132027
CREATED:20260329T175213Z
LAST-MODIFIED:20260329T175213Z
UID:10025877-1778315400-1778329800@www.livingconcord.com
SUMMARY:Garden Club of Concord Plant Sale
DESCRIPTION:Please join us at the Garden Club of Concord’s annual plant sale on Saturday\, May 9 at 54 Walden Street at the Trinitarian Congregational Church lawn. This popular community event features quality\, member grown plants for your spring and summer gardens while raising funds to support local beautification and conservation grants. Come shop a wide selection of plants\, visit the Kids’ Table\, and find a meaningful Mother’s Day gift.
URL:https://www.livingconcord.com/event/garden-club-of-concord-plant-sale/
LOCATION:Trinitarian Congregational Church\, 54 Walden St\, Concord\, MA\, 01742\, United States
CATEGORIES:Community,Fundraiser,sale
ATTACH;FMTTYPE=image/png:https://www.livingconcord.com/wp-content/uploads/2026/03/Plantsale25-1.png
ORGANIZER;CN="Garden Club of Concord":MAILTO:b_sykes@comcast.net
GEO:42.4583111;-71.3496349
X-APPLE-STRUCTURED-LOCATION;VALUE=URI;X-ADDRESS=Trinitarian Congregational Church 54 Walden St Concord MA 01742 United States;X-APPLE-RADIUS=500;X-TITLE=54 Walden St:geo:-71.3496349,42.4583111
END:VEVENT
BEGIN:VEVENT
DTSTART;TZID=America/New_York:20260516T100000
DTEND;TZID=America/New_York:20260516T160000
DTSTAMP:20260425T132027
CREATED:20260409T192916Z
LAST-MODIFIED:20260409T192916Z
UID:10025906-1778925600-1778947200@www.livingconcord.com
SUMMARY:West Concord Green Thumb PLANT SALE!
DESCRIPTION:Join our 5th annual Plant Sale on “the Green” @ 13B Commonwealth Ave.\nHundreds of plants to choice from – from our gardens to yours!\nNatives\, perennials\, annuals. All reasonably priced…and coloring books for kids!
URL:https://www.livingconcord.com/event/west-concord-green-thumb-plant-sale/
LOCATION:West Concord\, Concord\, MA\, 01742\, United States
CATEGORIES:Community,Local Business Event,outdoor,Sidewalk Sale,West Concord
ATTACH;FMTTYPE=image/jpeg:https://www.livingconcord.com/wp-content/uploads/2026/04/WCGT_Plant-Sale-2026-final.jpg
END:VEVENT
BEGIN:VEVENT
DTSTART;TZID=America/New_York:20260517T110000
DTEND;TZID=America/New_York:20260517T140000
DTSTAMP:20260425T132027
CREATED:20260422T170058Z
LAST-MODIFIED:20260422T170058Z
UID:10025959-1779015600-1779026400@www.livingconcord.com
SUMMARY:15th Anniversary: The Robbins House Move
DESCRIPTION:Join us as we mark the 15th anniversary of a milestone moment in Concord’s history—the relocation of the Robinson/Garrison family home to its current site and the opening of The Robbins House museum. The program includes a conversation with those who played a key role in the relocation\, offering firsthand perspectives and stories from this important moment in the site’s history\, as well as a special appearance by the Concord Minute Men. \nOriginally built in the early 1820s\, the house was home to members of the Robbins and Garrison families\, descendants of formerly enslaved people who established lives rooted in independence\, land ownership\, and community. After standing for decades at a different location\, the house was saved from demolition in 2010 and carefully moved to Monument Street\, where it was restored and opened to the public as a museum in 2011.
URL:https://www.livingconcord.com/event/15th-anniversary-the-robbins-house-move/
CATEGORIES:Community,Concord Visitor Center,Concord250,History,robbins house
ATTACH;FMTTYPE=image/png:https://www.livingconcord.com/wp-content/uploads/2026/04/TRH-blog-image-2026-04-06T202105.736.png
END:VEVENT
BEGIN:VEVENT
DTSTART;TZID=America/New_York:20260606T093000
DTEND;TZID=America/New_York:20260606T113000
DTSTAMP:20260425T132027
CREATED:20260409T234740Z
LAST-MODIFIED:20260409T234740Z
UID:10025907-1780738200-1780745400@www.livingconcord.com
SUMMARY:Join us! 5K Walk in Their Shoes (our 6th Walk!) to support South African communities in need
DESCRIPTION:Bring your friends\, family\, kids and dogs to join us on the beautiful trails of Great Brook Farm in Carlisle. Hang out after to chat and enjoy refreshments on us. This fun 5K community walk\, hosted by Concord non-profit Ubuntu Global Connections\, supports hardworking South African charities that are working to improve the widespread inequities in education\, employment\, and poverty still challenging this country decades after Apartheid. \nWalk with us and we can help create positive change together.
URL:https://www.livingconcord.com/event/join-us-5k-walk-in-their-shoes-our-6th-walk-to-support-south-african-communities-in-need/
CATEGORIES:Carlisle,Community,Fundraiser,Nature,Walk
ATTACH;FMTTYPE=image/png:https://www.livingconcord.com/wp-content/uploads/2026/04/WITS-2026-ticket-cover-new-Presentation-43-1.png
END:VEVENT
END:VCALENDAR