BEGIN:VCALENDAR
VERSION:2.0
PRODID:-//Concord, MA - ECPv6.15.20//NONSGML v1.0//EN
CALSCALE:GREGORIAN
METHOD:PUBLISH
X-WR-CALNAME:Concord, MA
X-ORIGINAL-URL:https://www.livingconcord.com
X-WR-CALDESC:Events for Concord, MA
REFRESH-INTERVAL;VALUE=DURATION:PT1H
X-Robots-Tag:noindex
X-PUBLISHED-TTL:PT1H
BEGIN:VTIMEZONE
TZID:America/New_York
BEGIN:DAYLIGHT
TZOFFSETFROM:-0500
TZOFFSETTO:-0400
TZNAME:EDT
DTSTART:20250309T070000
END:DAYLIGHT
BEGIN:STANDARD
TZOFFSETFROM:-0400
TZOFFSETTO:-0500
TZNAME:EST
DTSTART:20251102T060000
END:STANDARD
BEGIN:DAYLIGHT
TZOFFSETFROM:-0500
TZOFFSETTO:-0400
TZNAME:EDT
DTSTART:20260308T070000
END:DAYLIGHT
BEGIN:STANDARD
TZOFFSETFROM:-0400
TZOFFSETTO:-0500
TZNAME:EST
DTSTART:20261101T060000
END:STANDARD
BEGIN:DAYLIGHT
TZOFFSETFROM:-0500
TZOFFSETTO:-0400
TZNAME:EDT
DTSTART:20270314T070000
END:DAYLIGHT
BEGIN:STANDARD
TZOFFSETFROM:-0400
TZOFFSETTO:-0500
TZNAME:EST
DTSTART:20271107T060000
END:STANDARD
END:VTIMEZONE
BEGIN:VEVENT
DTSTART;VALUE=DATE:20260423
DTEND;VALUE=DATE:20260424
DTSTAMP:20260423T084053
CREATED:20260304T222340Z
LAST-MODIFIED:20260304T222340Z
UID:10025783-1776902400-1776988799@www.livingconcord.com
SUMMARY:(The )Magic(al) (Is/of )Here: Large-Scale Paintings of Local Flowers by Maggie Stanley
DESCRIPTION:April 3-30 in the Munroe Gallery at the Concord Main Library. See library website for daily hours. \nImmerse yourself in the beauty of local flowers as we await their blooming in later spring and summer. \nMost of the paintings in this show are based on photographs taken on walks throughout Concord\, including at Great Meadows\, the Buttrick Estate\, Concord Community Gardens\, the “wisteria house” across the street from the Main Library\, and even the Keyes Road municipal parking lot. \nMany of the works were created in 2024 for Flora(l) Portals\, my solo show in the skylit atrium of the Morse Institute Library in Natick\, MA. Because the pieces were hung from balcony railings and viewed from a distance\, I used canvases ranging from 3 to 6 feet in height—hence the name of that show\, as some of the paintings are almost the size of doors. \nI’m a largely self-taught artist\, born and raised in Massachusetts\, with my childhood spent in Arlington\, Sudbury\, and then Concord\, where I now reside. Although I’ve worked in multiple mediums\, my main focus the past few years has been floral paintings on textured canvas\, which I started while in Lois Andersen’s Monday Night Painters group at The Umbrella Arts Center. I am ever-appreciative of Lois\, the camaraderie of the group\, and the variety of local trails and publicly-accessible gardens that provide such an abundance of beauty. I hope my art can convey some of that beauty to others\, no matter the season\, and encourage exploration when the conditions are right! \nwww.maggiestanley.net
URL:https://www.livingconcord.com/event/the-magical-is-of-here-large-scale-paintings-of-local-flowers-by-maggie-stanley/
LOCATION:Concord Main Library\, Concord\, MA\, 01742\, United States
CATEGORIES:Art/Culture,exhibit,Library Event
ATTACH;FMTTYPE=image/jpeg:https://www.livingconcord.com/wp-content/uploads/2026/03/IMG_9038-1.jpeg
END:VEVENT
BEGIN:VEVENT
DTSTART;VALUE=DATE:20260423
DTEND;VALUE=DATE:20260424
DTSTAMP:20260423T084053
CREATED:20260326T163054Z
LAST-MODIFIED:20260326T163054Z
UID:10025872-1776902400-1776988799@www.livingconcord.com
SUMMARY:Now accepting applications for the Williams Scholarships for Excellence in Music & Excellence in Visual Arts
DESCRIPTION:The Concord Free Public Library is currently accepting applications for its\nWilliams Scholarships for Excellence in Music & Excellence in Visual Arts.\nThe scholarships are named for an original benefactor of the Library\, Charles\nWilliams\, an enthusiastic supporter of higher education\, music and the arts.\nEach Scholarship is granted to a Concord resident completing high school or highschool equivalent and entering college the following Fall.\nWilliams Scholar grants vary from year to year\, but typically range from $2\,000 to $5\,000 annually and are renewable for each consecutive year the recipient attends college up to 4 years.\nDeadline for submission: May 1\nDetailed information regarding applicant eligibility\, as well as a\ncomprehensive FAQs\, can be found on the Library website
URL:https://www.livingconcord.com/event/now-accepting-applications-for-the-williams-scholarships-for-excellence-in-music-excellence-in-visual-arts-5/
ATTACH;FMTTYPE=application/pdf:https://www.livingconcord.com/wp-content/uploads/2026/03/2026-Charles-Williams-Scholarship.pdf
END:VEVENT
BEGIN:VEVENT
DTSTART;TZID=America/New_York:20260423T110000
DTEND;TZID=America/New_York:20260423T130000
DTSTAMP:20260423T084053
CREATED:20260416T135019Z
LAST-MODIFIED:20260416T135019Z
UID:10025936-1776942000-1776949200@www.livingconcord.com
SUMMARY:CCHS Girls Lacrosse Game
DESCRIPTION:
URL:https://www.livingconcord.com/event/cchs-girls-lacrosse-game/
LOCATION:CCHS
ATTACH;FMTTYPE=image/png:https://www.livingconcord.com/wp-content/uploads/2026/04/CC-Athletics-2.png
GEO:42.4490747;-71.3430523
END:VEVENT
BEGIN:VEVENT
DTSTART;TZID=America/New_York:20260423T110000
DTEND;TZID=America/New_York:20260423T130000
DTSTAMP:20260423T084053
CREATED:20260416T135047Z
LAST-MODIFIED:20260416T135047Z
UID:10025937-1776942000-1776949200@www.livingconcord.com
SUMMARY:CCHS GirlsSoftball Game
DESCRIPTION:
URL:https://www.livingconcord.com/event/cchs-girlssoftball-game/
LOCATION:CCHS
ATTACH;FMTTYPE=image/png:https://www.livingconcord.com/wp-content/uploads/2026/04/CC-Athletics-2.png
GEO:42.4490747;-71.3430523
END:VEVENT
BEGIN:VEVENT
DTSTART;TZID=America/New_York:20260423T130000
DTEND;TZID=America/New_York:20260423T143000
DTSTAMP:20260423T084053
CREATED:20260416T010652Z
LAST-MODIFIED:20260416T010652Z
UID:10025921-1776949200-1776954600@www.livingconcord.com
SUMMARY:Protect Your Money and Identity: Scam Prevention
DESCRIPTION:Join the Concord COA for an important presentation and discussion on scam prevention and awareness\, designed to help seniors stay informed and protected. Representatives from the Middlesex Sheriff’s Office and the Concord Police Department will lead the session\, focusing on common scams affecting individuals and communities across Massachusetts. Featured speakers include Christopher Cerone\, Massachusetts Office of the Attorney General; Kevin Maccioli\, Middlesex County Sheriff’s Office and Det. Derek Rodriguez\, Concord Police Department\, they’ll share real-world examples\, warning signs to watch for\, and practical steps to safeguard your personal information and finances. Please call to reserve your spot: 978‑318‑3020.
URL:https://www.livingconcord.com/event/protect-your-money-and-identity-scam-prevention/
LOCATION:Harvey Wheeler Community Center\, 1276 Main St\, Concord\, MA\, 01742\, United States
CATEGORIES:Senior
ATTACH;FMTTYPE=image/jpeg:https://www.livingconcord.com/wp-content/uploads/2026/04/scam-prevention-word-concepts-banner-fraud-protection-presentation-website-criminal-liability-stopping-illegal-actions-isolated-lettering-idea-with-linear-icons-outline-illustration-vector-1.jpg
GEO:42.4556949;-71.3939961
X-APPLE-STRUCTURED-LOCATION;VALUE=URI;X-ADDRESS=Harvey Wheeler Community Center 1276 Main St Concord MA 01742 United States;X-APPLE-RADIUS=500;X-TITLE=1276 Main St:geo:-71.3939961,42.4556949
END:VEVENT
BEGIN:VEVENT
DTSTART;TZID=America/New_York:20260423T183000
DTEND;TZID=America/New_York:20260423T193000
DTSTAMP:20260423T084053
CREATED:20260407T145712Z
LAST-MODIFIED:20260407T145712Z
UID:10025893-1776969000-1776972600@www.livingconcord.com
SUMMARY:Writing Workshop with CFPL Writer in Residence Danielle Bradley
DESCRIPTION:Join Danielle Bradley\, the 2026 Concord Free Public Library’s writer-in-residence\, for an evening of literary conversation and community that includes: writing prompts\, practical advice\, and inspiration for getting started. Whether you are an experienced writer\, or someone looking to try something new\, you are welcome to attend. \nDanielle Bradley is the winner of the 2025 Simon & Schuster Books Like Us First Novel Contest and the 2025 Elizabeth Alexander Creative Writing Award. Her work appears or is forthcoming in literary journals\, including Salt Hill Journal\, Indiana Review\, and Colorado Review. Her creative work has been supported with scholarships and residencies from Tin House\, Kenyon Review Writers Workshop\, the Juniper Summer Writing Institute\, the Hudson Valley Writers Center\, and Smith College. \nThe Concord Free Public Library is committed to providing everyone with unimpeded access to our resources\, programs\, and services. Learn more about accessibility at our libraries. You can also email our administration team or give us a call at either of our libraries to request additional accommodations. \nThe Concord Free Public Library’s programs are free to the public thanks to the generous support of the Friends of the Concord Free Public Library and the Concord Free Public Library Corporation.
URL:https://www.livingconcord.com/event/writing-workshop-with-cfpl-writer-in-residence-danielle-bradley/
LOCATION:Concord Free Public Library\, 129 Main Street\, Concord\, MA\, 01742\, United States
CATEGORIES:Library Event
ATTACH;FMTTYPE=image/png:https://www.livingconcord.com/wp-content/uploads/2026/04/WriterInResidenceDanielle-Bradley_1_1.png
GEO:42.4588113;-71.3533968
X-APPLE-STRUCTURED-LOCATION;VALUE=URI;X-ADDRESS=Concord Free Public Library 129 Main Street Concord MA 01742 United States;X-APPLE-RADIUS=500;X-TITLE=129 Main Street:geo:-71.3533968,42.4588113
END:VEVENT
BEGIN:VEVENT
DTSTART;TZID=America/New_York:20260423T190000
DTEND;TZID=America/New_York:20260423T200000
DTSTAMP:20260423T084053
CREATED:20260413T153014Z
LAST-MODIFIED:20260413T153014Z
UID:10025913-1776970800-1776974400@www.livingconcord.com
SUMMARY:Revolutionary Legacies: Between the Lines
DESCRIPTION:Poet Bonney Hartley (Stockbridge-Munsee Band of Mohican Indians) presents an original poetry reading created for Revolutionary Legacies. Hartley will share the commissioned poem inspired by Museum objects and discuss her broader work\, offering Indigenous perspectives on memory\, belonging\, and the Revolution’s unfinished promises. \nSupported in part by Mass Humanities and Concord250. \nFree In-Person and Virtual
URL:https://www.livingconcord.com/event/revolutionary-legacies-between-the-lines/
LOCATION:Concord Museum\, Concord\, MA\, 01742\, United States
ATTACH;FMTTYPE=image/jpeg:https://www.livingconcord.com/wp-content/uploads/2026/04/Photo-of-Bonney.jpg
END:VEVENT
END:VCALENDAR